View In:
ArcGIS JavaScript
ArcGIS Online Map Viewer
ArcGIS Earth
ArcGIS Pro
Service Description: <p style='margin-top: 0px; margin-bottom: 1.55rem; font-family: "Avenir Next W01", "Avenir Next W00", "Avenir Next", Avenir, "Helvetica Neue", sans-serif; text-align: justify; font-size: 17px;'><font size='3' style='font-family: "Avenir Next W01", "Avenir Next W00", "Avenir Next", Avenir, "Helvetica Neue", Helvetica, Arial, sans-serif !important;'><span style='font-family: Cambria, serif;'>The United Nations<i> Clear Map</i> (hereinafter “<i>Clear Map</i>”) is a background reference web mapping service produced to facilitate “the issuance of any map at any duty station, including dissemination via public electronic networks such as Internet” and “to ensure that maps meet publication standards and that they are not in contravention of existing United Nations policies” in accordance with the in the Administrative Instruction on “Regulations for the Control and Limitation of Documentation – Guidelines for the Publication of Maps” of 20 January 1997 (</span><a href='http://undocs.org/ST/AI/189/Add.25/Rev.1' style='color: rgb(0, 121, 193); text-decoration-line: none; font-family: inherit;'><span style='font-family: Cambria, serif;'>http://undocs.org/ST/AI/189/Add.25/Rev.1</span></a><span style='font-family: Cambria, serif;'>).</span><br /></font></p><p style='margin-top: 0px; margin-bottom: 1.55rem; font-family: "Avenir Next W01", "Avenir Next W00", "Avenir Next", Avenir, "Helvetica Neue", sans-serif; text-align: justify; font-size: 17px;'><font size='3' style='font-family: "Avenir Next W01", "Avenir Next W00", "Avenir Next", Avenir, "Helvetica Neue", Helvetica, Arial, sans-serif !important;'><i><span style='font-family: Cambria, serif;'>Clear Map</span></i><span style='font-family: Cambria, serif;'> is created for the use of the United Nations Secretariat and community. </span><span style='font-family: Cambria, serif;'>All departments, offices and regional commissions of the United Nations Secretariat including offices away from Headquarters using </span><i><span style='font-family: Cambria, serif;'>Clear Map</span></i><span style='font-family: Cambria, serif;'> remain bound to the instructions as contained in the Administrative Instruction and should therefore seek clearance from the UN Geospatial Information Section (formerly Cartographic Section) prior to the issuance of their thematic maps using <i>Clear Map</i> as background reference.</span></font></p><p style='margin-top: 0px; margin-bottom: 1.55rem; font-family: "Avenir Next W01", "Avenir Next W00", "Avenir Next", Avenir, "Helvetica Neue", sans-serif; text-align: justify; font-size: 17px;'><font size='3' style='font-family: "Avenir Next W01", "Avenir Next W00", "Avenir Next", Avenir, "Helvetica Neue", Helvetica, Arial, sans-serif !important;'><span style='font-family: Cambria, serif;'><br /></span></font></p><p style='margin-top: 0px; margin-bottom: 1.55rem; font-family: "Avenir Next W01", "Avenir Next W00", "Avenir Next", Avenir, "Helvetica Neue", sans-serif; font-size: 17px; text-align: justify;'><span style='font-family: Cambria, serif;'><font size='3' style='font-family: "Avenir Next W01", "Avenir Next W00", "Avenir Next", Avenir, "Helvetica Neue", Helvetica, Arial, sans-serif !important;'>DISCLAIMERS:</font></span></p><p style='margin-top: 0px; margin-bottom: 1.55rem; font-family: "Avenir Next W01", "Avenir Next W00", "Avenir Next", Avenir, "Helvetica Neue", sans-serif; font-size: 17px; text-align: justify;'><span style='font-family: Cambria, serif;'><font size='3' style='font-family: "Avenir Next W01", "Avenir Next W00", "Avenir Next", Avenir, "Helvetica Neue", Helvetica, Arial, sans-serif !important;'>The designations employed and the presentation of material on this map do not imply the expression of any opinion whatsoever on the part of the Secretariat of the United Nations concerning the legal status of any country, territory, city or area or of its authorities, or concerning the delimitation of its frontiers or boundaries.</font></span></p><p style='margin-top: 0px; margin-bottom: 1.55rem; font-family: "Avenir Next W01", "Avenir Next W00", "Avenir Next", Avenir, "Helvetica Neue", sans-serif; font-size: 17px; text-align: justify;'><span style='font-family: Cambria, serif;'><font size='3' style='font-family: "Avenir Next W01", "Avenir Next W00", "Avenir Next", Avenir, "Helvetica Neue", Helvetica, Arial, sans-serif !important;'>Final boundary between the Republic of Sudan and the Republic of South Sudan has not yet been determined.</font></span></p><p style='margin-top: 0px; margin-bottom: 1.55rem; font-family: "Avenir Next W01", "Avenir Next W00", "Avenir Next", Avenir, "Helvetica Neue", sans-serif; font-size: 17px; text-align: justify;'><span style='font-family: Cambria, serif;'><font size='3' style='font-family: "Avenir Next W01", "Avenir Next W00", "Avenir Next", Avenir, "Helvetica Neue", Helvetica, Arial, sans-serif !important;'>Final status of the Abyei area is not yet determined.</font></span></p><p style='margin-top: 0px; margin-bottom: 1.55rem; font-family: "Avenir Next W01", "Avenir Next W00", "Avenir Next", Avenir, "Helvetica Neue", sans-serif; font-size: 17px; text-align: justify;'><span style='font-family: Cambria, serif;'><font size='3' style='font-family: "Avenir Next W01", "Avenir Next W00", "Avenir Next", Avenir, "Helvetica Neue", Helvetica, Arial, sans-serif !important;'>* Dotted line represents approximately the Line of Control in Jammu and Kashmir agreed upon by India and Pakistan. The final status of Jammu and Kashmir has not yet been agreed upon by the parties.</font></span></p><p style='margin-top: 0px; margin-bottom: 1.55rem; font-family: "Avenir Next W01", "Avenir Next W00", "Avenir Next", Avenir, "Helvetica Neue", sans-serif; font-size: 17px; text-align: justify;'><span style='font-family: Cambria, serif;'><font size='3' style='font-family: "Avenir Next W01", "Avenir Next W00", "Avenir Next", Avenir, "Helvetica Neue", Helvetica, Arial, sans-serif !important;'>** Chagos Archipelago appears without prejudice to the question of sovereignty.</font></span></p><p style='margin-top: 0px; margin-bottom: 1.55rem; font-family: "Avenir Next W01", "Avenir Next W00", "Avenir Next", Avenir, "Helvetica Neue", sans-serif; font-size: 17px; text-align: justify;'><span style='font-family: Cambria, serif;'><font size='3' style='font-family: "Avenir Next W01", "Avenir Next W00", "Avenir Next", Avenir, "Helvetica Neue", Helvetica, Arial, sans-serif !important;'>*** A dispute exists between the Governments of Argentina and the United Kingdom of Great Britain and Northern Ireland concerning sovereignty over the Falkland Islands (Malvinas).</font></span></p>
Map Name: WEBTOPO_UNSTATS
Legend
All Layers and Tables
Layers:
Description: <DIV STYLE="text-align:Left;font-size:12pt"><DIV><DIV><P><SPAN>UN_Clear0</SPAN></P></DIV></DIV></DIV>
Service Item Id: ee0a516630e84b5f8d901b98784b52e2
Copyright Text: Produced by: United Nations Geospatial Contributor: UNGIS, UNGSC, Field Missions CONTACT US: Your feedback is appreciated and should be sent directly to: Email:Clearmap@un.org / gis@un.org (UNCLASSIFIED) © UNITED NATIONS 2018
Spatial Reference:
102100
(3857)
LatestVCSWkid(0)
Single Fused Map Cache: true
Tile Info:
- Height: 256
- Width: 256
- DPI: 96
-
Levels of Detail: 24
-
Level ID: 1
[ Start Tile, End Tile ]
- Resolution: 78271.5169639999
- Scale: 2.95828763795777E8
-
Level ID: 2
[ Start Tile, End Tile ]
- Resolution: 39135.7584820001
- Scale: 1.47914381897889E8
-
Level ID: 3
[ Start Tile, End Tile ]
- Resolution: 19567.8792409999
- Scale: 7.3957190948944E7
-
Level ID: 4
[ Start Tile, End Tile ]
- Resolution: 9783.93962049996
- Scale: 3.6978595474472E7
-
Level ID: 5
[ Start Tile, End Tile ]
- Resolution: 4891.96981024998
- Scale: 1.8489297737236E7
- Format: Mixed
- Compression Quality: 75.0
- Origin: X: -2.0037508342787E7
Y: 2.0037508342787E7
- Spatial Reference: 102100
(3857)
LatestVCSWkid(0)
Storage Info:
- Storage Format: esriMapCacheStorageModeCompactV2
- Packet Size: 128
Initial Extent:
XMin: -1.0251282340015043E7
YMin: -1.1220697101073386E7
XMax: 1.5264344606931534E7
YMax: 1.5245232525461515E7
Spatial Reference: 102100
(0)
LatestVCSWkid(0)
Full Extent:
XMin: -2.0037507842788287E7
YMin: -2.4252868094374272E8
XMax: 2.0037507842788287E7
YMax: 2.4252868094374272E8
Spatial Reference: 102100
(0)
LatestVCSWkid(0)
Units: esriMeters
Supported Image Format Types: PNG32,PNG24,PNG,JPG,DIB,TIFF,EMF,PS,PDF,GIF,SVG,SVGZ,BMP
Document Info:
Title: UN_Clear0
Author:
Comments: <DIV STYLE="text-align:Left;font-size:12pt"><DIV><DIV><P><SPAN>UN_Clear0</SPAN></P></DIV></DIV></DIV>
Subject: UN_Clear0
Category:
Keywords: Contributor: UNGIS,UNGSC,Field Missions,Clear Map
AntialiasingMode: Fast
TextAntialiasingMode: Force
Supports Dynamic Layers: false
MaxRecordCount: 2000
MaxSelectionCount: 2000
MaxImageHeight: 4096
MaxImageWidth: 4096
Supported Query Formats: JSON, geoJSON, PBF
Supports Query Data Elements: true
Min Scale: 5.91657527591555E8
Max Scale: 70.5310735
Supports Datum Transformation: true
Child Resources:
Info
Supported Operations:
Export Map
Identify
QueryLegends
QueryDomains
Find
Return Updates