).<\/span>
<\/font><\/p>Clear Map<\/span><\/i> is created for the use of the United Nations Secretariat and community. <\/span>All departments, offices and regional commissions of the United Nations Secretariat including offices away from Headquarters using <\/span>Clear Map<\/span><\/i> remain bound to the instructions as contained in the Administrative Instruction and should therefore seek clearance from the UN Geospatial Information Section (formerly Cartographic Section) prior to the issuance of their thematic maps using Clear Map<\/i> as background reference.<\/span><\/font><\/p>
<\/span><\/font><\/p>DISCLAIMERS:<\/font><\/span><\/p>The designations employed and the presentation of material on this map do not imply the expression of any opinion whatsoever on the part of the Secretariat of the United Nations concerning the legal status of any country, territory, city or area or of its authorities, or concerning the delimitation of its frontiers or boundaries.<\/font><\/span><\/p>Final boundary between the Republic of Sudan and the Republic of South Sudan has not yet been determined.<\/font><\/span><\/p>Final status of the Abyei area is not yet determined.<\/font><\/span><\/p>* Dotted line represents approximately the Line of Control in Jammu and Kashmir agreed upon by India and Pakistan. The final status of Jammu and Kashmir has not yet been agreed upon by the parties.<\/font><\/span><\/p>** Chagos Archipelago appears without prejudice to the question of sovereignty.<\/font><\/span><\/p>*** A dispute exists between the Governments of Argentina and the United Kingdom of Great Britain and Northern Ireland concerning sovereignty over the Falkland Islands (Malvinas).<\/font><\/span><\/p>",
"mapName": "WEBTOPO_UNSTATS",
"description": "UN_Clear0<\/SPAN><\/P><\/DIV><\/DIV><\/DIV>",
"copyrightText": "Produced by: United Nations Geospatial Contributor: UNGIS, UNGSC, Field Missions CONTACT US: Your feedback is appreciated and should be sent directly to: Email:Clearmap@un.org / gis@un.org (UNCLASSIFIED) © UNITED NATIONS 2018\n",
"supportsDynamicLayers": false,
"layers": [
{
"id": 0,
"name": "WBYA Features",
"parentLayerId": -1,
"defaultVisibility": true,
"subLayerIds": [
1,
2,
3,
4,
5
],
"minScale": 0,
"maxScale": 2000000,
"type": "Group Layer",
"supportsDynamicLegends": false
},
{
"id": 6,
"name": "Global Boundaries",
"parentLayerId": -1,
"defaultVisibility": true,
"subLayerIds": [
7,
8,
9,
10,
11
],
"minScale": 0,
"maxScale": 2000000,
"type": "Group Layer",
"supportsDynamicLegends": false
},
{
"id": 7,
"name": "Global Boundaries L02",
"parentLayerId": 6,
"defaultVisibility": true,
"subLayerIds": null,
"minScale": 200000000,
"maxScale": 100000000,
"type": "Feature Layer",
"geometryType": "esriGeometryPolyline",
"supportsDynamicLegends": true
},
{
"id": 8,
"name": "Global Boundaries L03",
"parentLayerId": 6,
"defaultVisibility": true,
"subLayerIds": null,
"minScale": 100000000,
"maxScale": 50000000,
"type": "Feature Layer",
"geometryType": "esriGeometryPolyline",
"supportsDynamicLegends": true
},
{
"id": 9,
"name": "Global Boundaries L04",
"parentLayerId": 6,
"defaultVisibility": true,
"subLayerIds": null,
"minScale": 50000000,
"maxScale": 20000000,
"type": "Feature Layer",
"geometryType": "esriGeometryPolyline",
"supportsDynamicLegends": true
},
{
"id": 10,
"name": "Global Boundaries L05",
"parentLayerId": 6,
"defaultVisibility": true,
"subLayerIds": null,
"minScale": 20000000,
"maxScale": 10000000,
"type": "Feature Layer",
"geometryType": "esriGeometryPolyline",
"supportsDynamicLegends": true
},
{
"id": 11,
"name": "Global Boundaries L06-L08",
"parentLayerId": 6,
"defaultVisibility": true,
"subLayerIds": null,
"minScale": 10000000,
"maxScale": 2000000,
"type": "Feature Layer",
"geometryType": "esriGeometryPolyline",
"supportsDynamicLegends": true
},
{
"id": 12,
"name": "DRAL Features",
"parentLayerId": -1,
"defaultVisibility": true,
"subLayerIds": [
13,
14,
15,
16
],
"minScale": 0,
"maxScale": 2000000,
"type": "Group Layer",
"supportsDynamicLegends": false
},
{
"id": 17,
"name": "Base Layers",
"parentLayerId": -1,
"defaultVisibility": true,
"subLayerIds": [
18,
21,
22,
26,
29,
31
],
"minScale": 0,
"maxScale": 2000000,
"type": "Group Layer",
"supportsDynamicLegends": false
},
{
"id": 18,
"name": "Coastline",
"parentLayerId": 17,
"defaultVisibility": true,
"subLayerIds": [
19,
20
],
"minScale": 0,
"maxScale": 0,
"type": "Group Layer",
"supportsDynamicLegends": false
},
{
"id": 19,
"name": "Coastline_L05-L08",
"parentLayerId": 18,
"defaultVisibility": true,
"subLayerIds": null,
"minScale": 20000000,
"maxScale": 0,
"type": "Feature Layer",
"geometryType": "esriGeometryPolyline",
"supportsDynamicLegends": true
},
{
"id": 20,
"name": "Coastline_L01-L04",
"parentLayerId": 18,
"defaultVisibility": true,
"subLayerIds": null,
"minScale": 0,
"maxScale": 20000000,
"type": "Feature Layer",
"geometryType": "esriGeometryPolyline",
"supportsDynamicLegends": true
},
{
"id": 22,
"name": "Global hillshade",
"parentLayerId": 17,
"defaultVisibility": true,
"subLayerIds": [
23,
24,
25
],
"minScale": 0,
"maxScale": 0,
"type": "Group Layer",
"supportsDynamicLegends": false
},
{
"id": 23,
"name": "Filter_hillshade_global_lowres1.tif",
"parentLayerId": 22,
"defaultVisibility": true,
"subLayerIds": null,
"minScale": 0,
"maxScale": 2000000,
"type": "Raster Layer",
"supportsDynamicLegends": true
},
{
"id": 24,
"name": "hillshade_medres_lowres.tif",
"parentLayerId": 22,
"defaultVisibility": true,
"subLayerIds": null,
"minScale": 50000000,
"maxScale": 20000000,
"type": "Raster Layer",
"supportsDynamicLegends": true
},
{
"id": 25,
"name": "Filter_Filter_Filter_hillshade_global1.tif",
"parentLayerId": 22,
"defaultVisibility": true,
"subLayerIds": null,
"minScale": 25000000,
"maxScale": 3000000,
"type": "Raster Layer",
"supportsDynamicLegends": true
},
{
"id": 26,
"name": "Country areas",
"parentLayerId": 17,
"defaultVisibility": true,
"subLayerIds": [
27,
28
],
"minScale": 0,
"maxScale": 0,
"type": "Group Layer",
"supportsDynamicLegends": false
},
{
"id": 27,
"name": "BNDA_L01-L04",
"parentLayerId": 26,
"defaultVisibility": true,
"subLayerIds": null,
"minScale": 0,
"maxScale": 20000000,
"type": "Feature Layer",
"geometryType": "esriGeometryPolygon",
"supportsDynamicLegends": true
},
{
"id": 28,
"name": "BNDA_L05-L08",
"parentLayerId": 26,
"defaultVisibility": true,
"subLayerIds": null,
"minScale": 20000000,
"maxScale": 0,
"type": "Feature Layer",
"geometryType": "esriGeometryPolygon",
"supportsDynamicLegends": true
},
{
"id": 29,
"name": "Bathymetry",
"parentLayerId": 17,
"defaultVisibility": true,
"subLayerIds": [
30
],
"minScale": 50000000,
"maxScale": 0,
"type": "Group Layer",
"supportsDynamicLegends": false
},
{
"id": 30,
"name": "UNOM_Base.DMC.CUSTOM_NE_10m_bathymetry",
"parentLayerId": 29,
"defaultVisibility": true,
"subLayerIds": null,
"minScale": 50000000,
"maxScale": 0,
"type": "Feature Layer",
"geometryType": "esriGeometryPolygon",
"supportsDynamicLegends": true
},
{
"id": 31,
"name": "Ocean",
"parentLayerId": 17,
"defaultVisibility": true,
"subLayerIds": [
32,
33
],
"minScale": 0,
"maxScale": 0,
"type": "Group Layer",
"supportsDynamicLegends": false
},
{
"id": 32,
"name": "Ocean_L04-L08",
"parentLayerId": 31,
"defaultVisibility": true,
"subLayerIds": null,
"minScale": 50000000,
"maxScale": 2000000,
"type": "Feature Layer",
"geometryType": "esriGeometryPolygon",
"supportsDynamicLegends": true
},
{
"id": 33,
"name": "Ocean_L0-L03",
"parentLayerId": 31,
"defaultVisibility": true,
"subLayerIds": null,
"minScale": 0,
"maxScale": 50000000,
"type": "Feature Layer",
"geometryType": "esriGeometryPolygon",
"supportsDynamicLegends": true
}
],
"tables": [],
"spatialReference": {
"wkid": 102100,
"latestWkid": 3857,
"xyTolerance": 0.001,
"zTolerance": 0.001,
"mTolerance": 0.001,
"falseX": -20037700,
"falseY": -30241100,
"xyUnits": 10000,
"falseZ": -100000,
"zUnits": 10000,
"falseM": -100000,
"mUnits": 10000
},
"singleFusedMapCache": true,
"tileInfo": {
"rows": 256,
"cols": 256,
"dpi": 96,
"format": "Mixed",
"compressionQuality": 75,
"origin": {
"x": -2.0037508342787E7,
"y": 2.0037508342787E7
},
"spatialReference": {
"wkid": 102100,
"latestWkid": 3857,
"xyTolerance": 0.001,
"zTolerance": 0.001,
"mTolerance": 0.001,
"falseX": -20037700,
"falseY": -30241100,
"xyUnits": 1.4892314192838538E8,
"falseZ": -100000,
"zUnits": 10000,
"falseM": -100000,
"mUnits": 10000
},
"lods": [
{
"level": 0,
"resolution": 156543.033928,
"scale": 5.91657527591555E8
},
{
"level": 1,
"resolution": 78271.5169639999,
"scale": 2.95828763795777E8
},
{
"level": 2,
"resolution": 39135.7584820001,
"scale": 1.47914381897889E8
},
{
"level": 3,
"resolution": 19567.8792409999,
"scale": 7.3957190948944E7
},
{
"level": 4,
"resolution": 9783.93962049996,
"scale": 3.6978595474472E7
},
{
"level": 5,
"resolution": 4891.96981024998,
"scale": 1.8489297737236E7
},
{
"level": 6,
"resolution": 2445.98490512499,
"scale": 9244648.868618
},
{
"level": 7,
"resolution": 1222.99245256249,
"scale": 4622324.434309
},
{
"level": 8,
"resolution": 611.49622628138,
"scale": 2311162.217155
},
{
"level": 9,
"resolution": 305.748113140558,
"scale": 1155581.108577
},
{
"level": 10,
"resolution": 152.874056570411,
"scale": 577790.554289
},
{
"level": 11,
"resolution": 76.4370282850732,
"scale": 288895.277144
},
{
"level": 12,
"resolution": 38.2185141425366,
"scale": 144447.638572
},
{
"level": 13,
"resolution": 19.1092570712683,
"scale": 72223.819286
},
{
"level": 14,
"resolution": 9.55462853563415,
"scale": 36111.909643
},
{
"level": 15,
"resolution": 4.77731426794937,
"scale": 18055.954822
},
{
"level": 16,
"resolution": 2.38865713397468,
"scale": 9027.977411
},
{
"level": 17,
"resolution": 1.19432856685505,
"scale": 4513.988705
},
{
"level": 18,
"resolution": 0.597164283559817,
"scale": 2256.994353
},
{
"level": 19,
"resolution": 0.298582141647617,
"scale": 1128.497176
},
{
"level": 20,
"resolution": 0.14929107082380833,
"scale": 564.248588
},
{
"level": 21,
"resolution": 0.07464553541190416,
"scale": 282.124294
},
{
"level": 22,
"resolution": 0.03732276770595208,
"scale": 141.062147
},
{
"level": 23,
"resolution": 0.01866138385297604,
"scale": 70.5310735
}
]
},
"storageInfo": {
"storageFormat": "esriMapCacheStorageModeCompactV2",
"packetSize": 128
},
"initialExtent": {
"xmin": -1.0251282340015043E7,
"ymin": -1.1220697101073386E7,
"xmax": 1.5264344606931534E7,
"ymax": 1.5245232525461515E7,
"spatialReference": {
"wkid": 102100,
"latestWkid": 3857,
"xyTolerance": 0.001,
"zTolerance": 0.001,
"mTolerance": 0.001,
"falseX": -20037700,
"falseY": -30241100,
"xyUnits": 10000,
"falseZ": -100000,
"zUnits": 10000,
"falseM": -100000,
"mUnits": 10000
}
},
"fullExtent": {
"xmin": -2.0037507842788287E7,
"ymin": -2.4252868094374272E8,
"xmax": 2.0037507842788287E7,
"ymax": 2.4252868094374272E8,
"spatialReference": {
"wkid": 102100,
"latestWkid": 3857,
"xyTolerance": 0.001,
"zTolerance": 0.001,
"mTolerance": 0.001,
"falseX": -20037700,
"falseY": -30241100,
"xyUnits": 10000,
"falseZ": -100000,
"zUnits": 10000,
"falseM": -100000,
"mUnits": 10000
}
},
"datesInUnknownTimezone": false,
"minScale": 5.91657527591555E8,
"maxScale": 70.5310735,
"units": "esriMeters",
"supportedImageFormatTypes": "PNG32,PNG24,PNG,JPG,DIB,TIFF,EMF,PS,PDF,GIF,SVG,SVGZ,BMP",
"documentInfo": {
"Title": "UN_Clear0",
"Author": "",
"Comments": "UN_Clear0<\/SPAN><\/P><\/DIV><\/DIV><\/DIV>",
"Subject": "UN_Clear0",
"Category": "",
"Version": "2.9.0",
"AntialiasingMode": "Fast",
"TextAntialiasingMode": "Force",
"Keywords": "Contributor: UNGIS,UNGSC,Field Missions,Clear Map"
},
"supportsQueryDomains": true,
"capabilities": "Query,Map,Data",
"supportedQueryFormats": "JSON, geoJSON, PBF",
"exportTilesAllowed": false,
"referenceScale": 0.0,
"supportsDatumTransformation": true,
"archivingInfo": {"supportsHistoricMoment": false},
"supportsClipping": true,
"supportsSpatialFilter": true,
"supportsTimeRelation": true,
"supportsQueryDataElements": true,
"mapUnits": {"uwkid": 9001},
"maxSelectionCount": 2000,
"maxRecordCount": 2000,
"maxImageHeight": 4096,
"maxImageWidth": 4096,
"supportedExtensions": "",
"serviceItemId": "ee0a516630e84b5f8d901b98784b52e2"
}