View In:
ArcGIS JavaScript
ArcGIS Online Map Viewer
ArcGIS Earth
ArcGIS Pro
Service Description: <DIV STYLE="text-align:Left;font-size:12pt"><DIV><DIV><P><SPAN>UN_Clear0</SPAN></P></DIV></DIV></DIV>
Map Name: TOPO_UNSTATS
Legend
All Layers and Tables
Layers:
Description:
Service Item Id: ae326058abbd41e08da7584b98887585
Copyright Text:
Spatial Reference:
104257
(8999)
LatestVCSWkid(0)
Single Fused Map Cache: true
Tile Info:
- Height: 256
- Width: 256
- DPI: 96
-
Levels of Detail: 23
-
Level ID: 11
[ Start Tile, End Tile ]
- Resolution: 2.9046154856326664E-4
- Scale: 122070.3125
-
Level ID: 12
[ Start Tile, End Tile ]
- Resolution: 1.4523077428163332E-4
- Scale: 61035.15625
-
Level ID: 13
[ Start Tile, End Tile ]
- Resolution: 7.261538714081666E-5
- Scale: 30517.578125
-
Level ID: 14
[ Start Tile, End Tile ]
- Resolution: 3.630769357040833E-5
- Scale: 15258.7890625
-
Level ID: 15
[ Start Tile, End Tile ]
- Resolution: 1.8153846785204165E-5
- Scale: 7629.39453125
-
Level ID: 16
[ Start Tile, End Tile ]
- Resolution: 9.076923392602082E-6
- Scale: 3814.697265625
-
Level ID: 17
[ Start Tile, End Tile ]
- Resolution: 4.538461696301041E-6
- Scale: 1907.3486328125
-
Level ID: 18
[ Start Tile, End Tile ]
- Resolution: 2.2692308481505206E-6
- Scale: 953.67431640625
-
Level ID: 19
[ Start Tile, End Tile ]
- Resolution: 1.1346154240752603E-6
- Scale: 476.837158203125
-
Level ID: 20
[ Start Tile, End Tile ]
- Resolution: 5.673077120376302E-7
- Scale: 238.4185791015625
-
Level ID: 21
[ Start Tile, End Tile ]
- Resolution: 2.836538560188151E-7
- Scale: 119.20928955078125
-
Level ID: 22
[ Start Tile, End Tile ]
- Resolution: 1.4182692800940754E-7
- Scale: 59.604644775390625
- Format: PNG
- Compression Quality: 0.0
- Origin: X: -400.0
Y: 399.9999999999998
- Spatial Reference: 104257
(8999)
LatestVCSWkid(0)
Storage Info:
- Storage Format: esriMapCacheStorageModeCompactV2
- Packet Size: 128
Initial Extent:
XMin: -185.77927460072922
YMin: -92.553149499515
XMax: 230.81237914686884
YMax: 128.12091298768604
Spatial Reference: 104257
(0)
LatestVCSWkid(0)
Full Extent:
XMin: -179.99999550841463
YMin: -88.99999992161116
XMax: 179.99999550841463
YMax: 88.99999992161116
Spatial Reference: 104257
(0)
LatestVCSWkid(0)
Units: esriDecimalDegrees
Supported Image Format Types: PNG32,PNG24,PNG,JPG,DIB,TIFF,EMF,PS,PDF,GIF,SVG,SVGZ,BMP
Document Info:
Title: UN_Clear0
Author:
Comments: <DIV STYLE="text-align:Left;font-size:12pt"><DIV><DIV><P><SPAN>UN_Clear0</SPAN></P></DIV></DIV></DIV>
Subject: UN_Clear0
Category:
Keywords: Clear Map,WebTopo,UNSTATS
AntialiasingMode: Fast
TextAntialiasingMode: Force
Supports Dynamic Layers: false
MaxRecordCount: 2000
MaxSelectionCount: 2000
MaxImageHeight: 4096
MaxImageWidth: 4096
Supported Query Formats: JSON, geoJSON, PBF
Supports Query Data Elements: true
Min Scale: 250000000
Max Scale: 976562.5
Supports Datum Transformation: true
Child Resources:
Info
Supported Operations:
Export Map
Identify
QueryLegends
QueryDomains
Find
Return Updates