{ "currentVersion": 11.4, "cimVersion": "3.4.0", "serviceDescription": "
UN_Clear0<\/SPAN><\/P><\/DIV><\/DIV><\/DIV>",
"mapName": "TOPO_UNSTATS",
"description": "",
"copyrightText": "",
"supportsDynamicLayers": false,
"layers": [
{
"id": 0,
"name": "WBYA Features",
"parentLayerId": -1,
"defaultVisibility": true,
"subLayerIds": [
1,
2,
3,
4,
5
],
"minScale": 0,
"maxScale": 2000000,
"type": "Group Layer",
"supportsDynamicLegends": false
},
{
"id": 6,
"name": "Global Boundaries",
"parentLayerId": -1,
"defaultVisibility": true,
"subLayerIds": [
7,
8,
9,
10,
11
],
"minScale": 0,
"maxScale": 2000000,
"type": "Group Layer",
"supportsDynamicLegends": false
},
{
"id": 7,
"name": "Global Boundaries L02",
"parentLayerId": 6,
"defaultVisibility": true,
"subLayerIds": null,
"minScale": 200000000,
"maxScale": 100000000,
"type": "Feature Layer",
"geometryType": "esriGeometryPolyline",
"supportsDynamicLegends": true
},
{
"id": 8,
"name": "Global Boundaries L03",
"parentLayerId": 6,
"defaultVisibility": true,
"subLayerIds": null,
"minScale": 100000000,
"maxScale": 50000000,
"type": "Feature Layer",
"geometryType": "esriGeometryPolyline",
"supportsDynamicLegends": true
},
{
"id": 9,
"name": "Global Boundaries L04",
"parentLayerId": 6,
"defaultVisibility": true,
"subLayerIds": null,
"minScale": 50000000,
"maxScale": 20000000,
"type": "Feature Layer",
"geometryType": "esriGeometryPolyline",
"supportsDynamicLegends": true
},
{
"id": 12,
"name": "DRAL Features",
"parentLayerId": -1,
"defaultVisibility": true,
"subLayerIds": [
13,
14,
15,
16
],
"minScale": 0,
"maxScale": 2000000,
"type": "Group Layer",
"supportsDynamicLegends": false
},
{
"id": 17,
"name": "Base Layers",
"parentLayerId": -1,
"defaultVisibility": true,
"subLayerIds": [
18,
21,
22,
26,
29,
31
],
"minScale": 0,
"maxScale": 2000000,
"type": "Group Layer",
"supportsDynamicLegends": false
},
{
"id": 18,
"name": "Coastline",
"parentLayerId": 17,
"defaultVisibility": true,
"subLayerIds": [
19,
20
],
"minScale": 0,
"maxScale": 0,
"type": "Group Layer",
"supportsDynamicLegends": false
},
{
"id": 20,
"name": "Coastline_L01-L04",
"parentLayerId": 18,
"defaultVisibility": true,
"subLayerIds": null,
"minScale": 0,
"maxScale": 20000000,
"type": "Feature Layer",
"geometryType": "esriGeometryPolyline",
"supportsDynamicLegends": true
},
{
"id": 22,
"name": "Global hillshade",
"parentLayerId": 17,
"defaultVisibility": true,
"subLayerIds": [
23,
24,
25
],
"minScale": 0,
"maxScale": 0,
"type": "Group Layer",
"supportsDynamicLegends": false
},
{
"id": 23,
"name": "Filter_hillshade_global_lowres1.tif",
"parentLayerId": 22,
"defaultVisibility": true,
"subLayerIds": null,
"minScale": 0,
"maxScale": 2000000,
"type": "Raster Layer",
"supportsDynamicLegends": true
},
{
"id": 24,
"name": "hillshade_medres_lowres.tif",
"parentLayerId": 22,
"defaultVisibility": true,
"subLayerIds": null,
"minScale": 50000000,
"maxScale": 20000000,
"type": "Raster Layer",
"supportsDynamicLegends": true
},
{
"id": 25,
"name": "Filter_Filter_Filter_hillshade_global1.tif",
"parentLayerId": 22,
"defaultVisibility": true,
"subLayerIds": null,
"minScale": 25000000,
"maxScale": 3000000,
"type": "Raster Layer",
"supportsDynamicLegends": true
},
{
"id": 26,
"name": "Country areas",
"parentLayerId": 17,
"defaultVisibility": true,
"subLayerIds": [
27,
28
],
"minScale": 0,
"maxScale": 0,
"type": "Group Layer",
"supportsDynamicLegends": false
},
{
"id": 27,
"name": "BNDA_L01-L04",
"parentLayerId": 26,
"defaultVisibility": true,
"subLayerIds": null,
"minScale": 0,
"maxScale": 20000000,
"type": "Feature Layer",
"geometryType": "esriGeometryPolygon",
"supportsDynamicLegends": true
},
{
"id": 29,
"name": "Bathymetry",
"parentLayerId": 17,
"defaultVisibility": true,
"subLayerIds": [
30
],
"minScale": 50000000,
"maxScale": 0,
"type": "Group Layer",
"supportsDynamicLegends": false
},
{
"id": 30,
"name": "UNOM_Base.DMC.CUSTOM_NE_10m_bathymetry",
"parentLayerId": 29,
"defaultVisibility": true,
"subLayerIds": null,
"minScale": 50000000,
"maxScale": 0,
"type": "Feature Layer",
"geometryType": "esriGeometryPolygon",
"supportsDynamicLegends": true
},
{
"id": 31,
"name": "Ocean",
"parentLayerId": 17,
"defaultVisibility": true,
"subLayerIds": [
32,
33
],
"minScale": 0,
"maxScale": 0,
"type": "Group Layer",
"supportsDynamicLegends": false
},
{
"id": 32,
"name": "Ocean_L04-L08",
"parentLayerId": 31,
"defaultVisibility": true,
"subLayerIds": null,
"minScale": 50000000,
"maxScale": 2000000,
"type": "Feature Layer",
"geometryType": "esriGeometryPolygon",
"supportsDynamicLegends": true
},
{
"id": 33,
"name": "Ocean_L0-L03",
"parentLayerId": 31,
"defaultVisibility": true,
"subLayerIds": null,
"minScale": 0,
"maxScale": 50000000,
"type": "Feature Layer",
"geometryType": "esriGeometryPolygon",
"supportsDynamicLegends": true
}
],
"tables": [],
"spatialReference": {
"wkid": 104257,
"latestWkid": 8999,
"xyTolerance": 8.983152841195213E-9,
"zTolerance": 0.001,
"mTolerance": 0.001,
"falseX": -400,
"falseY": -400,
"xyUnits": 9.999999999999999E8,
"falseZ": -100000,
"zUnits": 10000,
"falseM": -100000,
"mUnits": 10000
},
"singleFusedMapCache": true,
"tileInfo": {
"rows": 256,
"cols": 256,
"dpi": 96,
"format": "PNG",
"compressionQuality": 0,
"origin": {
"x": -400,
"y": 399.9999999999998
},
"spatialReference": {
"wkid": 104257,
"latestWkid": 8999,
"xyTolerance": 8.983152841195213E-9,
"zTolerance": 0.001,
"mTolerance": 0.001,
"falseX": -400,
"falseY": -400,
"xyUnits": 1.125899906842624E13,
"falseZ": -100000,
"zUnits": 10000,
"falseM": -100000,
"mUnits": 10000
},
"lods": [
{
"level": 0,
"resolution": 0.5948652514575701,
"scale": 250000000
},
{
"level": 1,
"resolution": 0.29743262572878504,
"scale": 125000000
},
{
"level": 2,
"resolution": 0.14871631286439252,
"scale": 62500000
},
{
"level": 3,
"resolution": 0.07435815643219626,
"scale": 31250000
},
{
"level": 4,
"resolution": 0.03717907821609813,
"scale": 15625000
},
{
"level": 5,
"resolution": 0.018589539108049065,
"scale": 7812500
},
{
"level": 6,
"resolution": 0.009294769554024532,
"scale": 3906250
},
{
"level": 7,
"resolution": 0.004647384777012266,
"scale": 1953125
},
{
"level": 8,
"resolution": 0.002323692388506133,
"scale": 976562.5
},
{
"level": 9,
"resolution": 0.0011618461942530666,
"scale": 488281.25
},
{
"level": 10,
"resolution": 5.809230971265333E-4,
"scale": 244140.625
},
{
"level": 11,
"resolution": 2.9046154856326664E-4,
"scale": 122070.3125
},
{
"level": 12,
"resolution": 1.4523077428163332E-4,
"scale": 61035.15625
},
{
"level": 13,
"resolution": 7.261538714081666E-5,
"scale": 30517.578125
},
{
"level": 14,
"resolution": 3.630769357040833E-5,
"scale": 15258.7890625
},
{
"level": 15,
"resolution": 1.8153846785204165E-5,
"scale": 7629.39453125
},
{
"level": 16,
"resolution": 9.076923392602082E-6,
"scale": 3814.697265625
},
{
"level": 17,
"resolution": 4.538461696301041E-6,
"scale": 1907.3486328125
},
{
"level": 18,
"resolution": 2.2692308481505206E-6,
"scale": 953.67431640625
},
{
"level": 19,
"resolution": 1.1346154240752603E-6,
"scale": 476.837158203125
},
{
"level": 20,
"resolution": 5.673077120376302E-7,
"scale": 238.4185791015625
},
{
"level": 21,
"resolution": 2.836538560188151E-7,
"scale": 119.20928955078125
},
{
"level": 22,
"resolution": 1.4182692800940754E-7,
"scale": 59.604644775390625
}
]
},
"storageInfo": {
"storageFormat": "esriMapCacheStorageModeCompactV2",
"packetSize": 128
},
"initialExtent": {
"xmin": -185.77927460072922,
"ymin": -92.553149499515,
"xmax": 230.81237914686884,
"ymax": 128.12091298768604,
"spatialReference": {
"cs": "gcs",
"wkid": 104257
}
},
"fullExtent": {
"xmin": -179.99999550841463,
"ymin": -88.99999992161116,
"xmax": 179.99999550841463,
"ymax": 88.99999992161116,
"spatialReference": {
"cs": "gcs",
"wkid": 104257
}
},
"datesInUnknownTimezone": false,
"minScale": 250000000,
"maxScale": 976562.5,
"units": "esriDecimalDegrees",
"supportedImageFormatTypes": "PNG32,PNG24,PNG,JPG,DIB,TIFF,EMF,PS,PDF,GIF,SVG,SVGZ,BMP",
"documentInfo": {
"Title": "UN_Clear0",
"Author": "",
"Comments": " UN_Clear0<\/SPAN><\/P><\/DIV><\/DIV><\/DIV>",
"Subject": "UN_Clear0",
"Category": "",
"Version": "2.4.0",
"AntialiasingMode": "Fast",
"TextAntialiasingMode": "Force",
"Keywords": "Clear Map,WebTopo,UNSTATS"
},
"supportsQueryDomains": true,
"capabilities": "Query,Map,Data",
"supportedQueryFormats": "JSON, geoJSON, PBF",
"exportTilesAllowed": false,
"referenceScale": 0.0,
"datumTransformations": [
{
"geoTransforms": [
{
"wkid": 108363,
"latestWkid": 108363,
"transformForward": true,
"name": "WGS_1984_(ITRF08)_To_NAD_1983_2011"
},
{
"wkid": 108360,
"latestWkid": 108360,
"transformForward": false,
"name": "ITRF_2008_To_NAD_1983_2011"
}
]
},
{
"geoTransforms": [
{
"wkid": 108360,
"latestWkid": 108360,
"transformForward": true,
"name": "ITRF_2008_To_NAD_1983_2011"
},
{
"wkid": 108363,
"latestWkid": 108363,
"transformForward": false,
"name": "WGS_1984_(ITRF08)_To_NAD_1983_2011"
}
]
}
],
"supportsDatumTransformation": true,
"archivingInfo": {"supportsHistoricMoment": false},
"supportsClipping": true,
"supportsSpatialFilter": true,
"supportsTimeRelation": true,
"supportsQueryDataElements": true,
"mapUnits": {"uwkid": 9102},
"maxSelectionCount": 2000,
"maxRecordCount": 2000,
"maxImageHeight": 4096,
"maxImageWidth": 4096,
"supportedExtensions": "",
"serviceItemId": "ae326058abbd41e08da7584b98887585"
}