View In:
ArcGIS JavaScript
ArcGIS Online Map Viewer
ArcGIS Earth
ArcGIS Pro
Service Description:
Map Name: WEBTOPO
Legend
All Layers and Tables
Dynamic Legend
Dynamic All Layers
Layers:
Description: The United Nations Clear Map (hereinafter “Clear Map”) is a background reference web mapping service produced to facilitate “the issuance of any map at any duty station, including dissemination via public electronic networks such as Internet” and “to ensure that maps meet publication standards and that they are not in contravention of existing United Nations policies” in accordance with the in the Administrative Instruction on “Regulations for the Control and Limitation of Documentation – Guidelines for the Publication of Maps” of 20 January 1997 (http://undocs.org/ST/AI/189/Add.25/Rev.1).Clear Map is created for the use of the United Nations Secretariat and community. All departments, offices and regional commissions of the United Nations Secretariat including offices away from Headquarters using Clear Map remain bound to the instructions as contained in the Administrative Instruction and should therefore seek clearance from the UN Geospatial Information Section (formerly Cartographic Section) prior to the issuance of their thematic maps using Clear Map as background reference.DISCLAIMERS:The designations employed and the presentation of material on this map do not imply the expression of any opinion whatsoever on the part of the Secretariat of the United Nations concerning the legal status of any country, territory, city or area or of its authorities, or concerning the delimitation of its frontiers or boundaries.Final boundary between the Republic of Sudan the Republic of South Sudan has not yet been determined.Final status of the Abyei area is not yet determined.* Dotted line represents approximately the Line of Control in Jammu and Kashmir agreed upon by India and Pakistan. The final status of Jammu and Kashmir has not yet been agreed upon by the parties.** Chagos Archipelago appears without prejudice to the question of sovereignty.*** A dispute exists between the Governments of Argentina and the United Kingdom of Great Britain and Northern Ireland concerning sovereignty over the Falkland Islands (Malvinas).
Service Item Id: 34bc79c1c2e54a16a7fbbd1b14db3dda
Copyright Text: Produced by <a href='https://geoportal.un.org/arcgis/home/item.html?id=541557fd0d4d42efb24449be614e6887' target='blank' style='text-decoration: none;'>United Nations Geospatial</a>
Spatial Reference:
102100
(3857)
LatestVCSWkid(0)
Single Fused Map Cache: true
Tile Info:
- Height: 256
- Width: 256
- DPI: 96
-
Levels of Detail: 24
-
Level ID: 1
[ Start Tile, End Tile ]
- Resolution: 78271.5169639999
- Scale: 2.95828763795777E8
-
Level ID: 2
[ Start Tile, End Tile ]
- Resolution: 39135.7584820001
- Scale: 1.47914381897889E8
-
Level ID: 3
[ Start Tile, End Tile ]
- Resolution: 19567.8792409999
- Scale: 7.3957190948944E7
-
Level ID: 4
[ Start Tile, End Tile ]
- Resolution: 9783.93962049996
- Scale: 3.6978595474472E7
-
Level ID: 5
[ Start Tile, End Tile ]
- Resolution: 4891.96981024998
- Scale: 1.8489297737236E7
- Format: PNG32
- Compression Quality: 0.0
- Origin: X: -2.0037508342787E7
Y: 2.0037508342787E7
- Spatial Reference: 102100
(3857)
LatestVCSWkid(0)
Storage Info:
- Storage Format: esriMapCacheStorageModeCompactV2
- Packet Size: 128
Initial Extent:
XMin: -2811948.235224968
YMin: -97473.6072241012
XMax: 1.20588420271612E7
YMax: 1.3023811918410752E7
Spatial Reference: 102100
(3857)
LatestVCSWkid(0)
Full Extent:
XMin: -2.0037507842788287E7
YMin: -2.4252868094374272E8
XMax: 2.0037507842788287E7
YMax: 2.4252868094374272E8
Spatial Reference: 102100
(3857)
LatestVCSWkid(0)
Units: esriMeters
Supported Image Format Types: PNG32,PNG24,PNG,JPG,DIB,TIFF,EMF,PS,PDF,GIF,SVG,SVGZ,BMP
Document Info:
Title: UN_Clear0
Author:
Comments: UN_Clear0
Subject: UN_Clear0
Category:
Keywords: ClearMap WebTopo
AntialiasingMode: Fast
TextAntialiasingMode: Force
Supports Dynamic Layers: true
Resampling: false
MaxRecordCount: 2000
MaxSelectionCount: 2000
MaxImageHeight: 4096
MaxImageWidth: 4096
Supported Query Formats: JSON, geoJSON, PBF
Supports Query Data Elements: true
Min Scale: 0
Max Scale: 0
Supports Datum Transformation: true
Child Resources:
Info
Dynamic Layer
Supported Operations:
Export Map
Identify
QueryLegends
QueryDomains
Find
Return Updates