{
 "currentVersion": 11.4,
 "cimVersion": "3.4.0",
 "serviceDescription": "",
 "mapName": "WEBTOPO",
 "description": "The United Nations Clear Map (hereinafter \u201cClear Map\u201d) is a background reference web mapping service produced to facilitate \u201cthe issuance of any map at any duty station, including dissemination via public electronic networks such as Internet\u201d and \u201cto ensure that maps meet publication standards and that they are not in contravention of existing United Nations policies\u201d in accordance with the in the Administrative Instruction on \u201cRegulations for the Control and Limitation of Documentation \u2013 Guidelines for the Publication of Maps\u201d of 20 January 1997 (http://undocs.org/ST/AI/189/Add.25/Rev.1).Clear Map is created for the use of the United Nations Secretariat and community. All departments, offices and regional commissions of the United Nations Secretariat including offices away from Headquarters using Clear Map remain bound to the instructions as contained in the Administrative Instruction and should therefore seek clearance from the UN Geospatial Information Section (formerly Cartographic Section) prior to the issuance of their thematic maps using Clear Map as background reference.DISCLAIMERS:The designations employed and the presentation of material on this map do not imply the expression of any opinion whatsoever on the part of the Secretariat of the United Nations concerning the legal status of any country, territory, city or area or of its authorities, or concerning the delimitation of its frontiers or boundaries.Final boundary between the Republic of Sudan the Republic of South Sudan has not yet been determined.Final status of the Abyei area is not yet determined.* Dotted line represents approximately the Line of Control in Jammu and Kashmir agreed upon by India and Pakistan. The final status of Jammu and Kashmir has not yet been agreed upon by the parties.** Chagos Archipelago appears without prejudice to the question of sovereignty.*** A dispute exists between the Governments of Argentina and the United Kingdom of Great Britain and Northern Ireland concerning sovereignty over the Falkland Islands (Malvinas).",
 "copyrightText": "Produced by United Nations Geospatial<\/a> ",
 "supportsDynamicLayers": true,
 "layers": [
  {
   "id": 1,
   "name": "Annotations",
   "parentLayerId": -1,
   "defaultVisibility": true,
   "subLayerIds": [
    2,
    3,
    6,
    22,
    40,
    61
   ],
   "minScale": 0,
   "maxScale": 5000000,
   "type": "Group Layer",
   "supportsDynamicLegends": false
  },
  {
   "id": 2,
   "name": "L01",
   "parentLayerId": 1,
   "defaultVisibility": true,
   "subLayerIds": [],
   "minScale": 600000000,
   "maxScale": 200000000,
   "type": "Group Layer",
   "supportsDynamicLegends": false
  },
  {
   "id": 3,
   "name": "L02",
   "parentLayerId": 1,
   "defaultVisibility": true,
   "subLayerIds": [
    4
   ],
   "minScale": 200000000,
   "maxScale": 100000000,
   "type": "Group Layer",
   "supportsDynamicLegends": false
  },
  {
   "id": 6,
   "name": "L03",
   "parentLayerId": 1,
   "defaultVisibility": true,
   "subLayerIds": [
    7,
    14,
    15
   ],
   "minScale": 100000000,
   "maxScale": 50000000,
   "type": "Group Layer",
   "supportsDynamicLegends": false
  },
  {
   "id": 22,
   "name": "L04",
   "parentLayerId": 1,
   "defaultVisibility": true,
   "subLayerIds": [
    23,
    30,
    31
   ],
   "minScale": 50000000,
   "maxScale": 20000000,
   "type": "Group Layer",
   "supportsDynamicLegends": false
  },
  {
   "id": 40,
   "name": "L05",
   "parentLayerId": 1,
   "defaultVisibility": true,
   "subLayerIds": [
    41,
    49,
    50,
    52
   ],
   "minScale": 20000000,
   "maxScale": 10000000,
   "type": "Group Layer",
   "supportsDynamicLegends": false
  },
  {
   "id": 61,
   "name": "L06",
   "parentLayerId": 1,
   "defaultVisibility": true,
   "subLayerIds": [
    62,
    70,
    72,
    73,
    82
   ],
   "minScale": 10000000,
   "maxScale": 5000000,
   "type": "Group Layer",
   "supportsDynamicLegends": false
  },
  {
   "id": 83,
   "name": "WBYA Features",
   "parentLayerId": -1,
   "defaultVisibility": true,
   "subLayerIds": [
    84,
    85,
    86,
    87,
    88
   ],
   "minScale": 0,
   "maxScale": 5000000,
   "type": "Group Layer",
   "supportsDynamicLegends": false
  },
  {
   "id": 89,
   "name": "Global Boundaries",
   "parentLayerId": -1,
   "defaultVisibility": true,
   "subLayerIds": [
    90,
    91,
    92,
    93,
    94
   ],
   "minScale": 0,
   "maxScale": 5000000,
   "type": "Group Layer",
   "supportsDynamicLegends": false
  },
  {
   "id": 95,
   "name": "DRAL Features",
   "parentLayerId": -1,
   "defaultVisibility": true,
   "subLayerIds": [
    96,
    97,
    98,
    99
   ],
   "minScale": 0,
   "maxScale": 5000000,
   "type": "Group Layer",
   "supportsDynamicLegends": false
  },
  {
   "id": 100,
   "name": "Base Layers",
   "parentLayerId": -1,
   "defaultVisibility": true,
   "subLayerIds": [
    101,
    104,
    108,
    111,
    113
   ],
   "minScale": 0,
   "maxScale": 5000000,
   "type": "Group Layer",
   "supportsDynamicLegends": false
  },
  {
   "id": 101,
   "name": "Coastline",
   "parentLayerId": 100,
   "defaultVisibility": true,
   "subLayerIds": [
    102,
    103
   ],
   "minScale": 0,
   "maxScale": 0,
   "type": "Group Layer",
   "supportsDynamicLegends": false
  },
  {
   "id": 104,
   "name": "Global hillshade",
   "parentLayerId": 100,
   "defaultVisibility": true,
   "subLayerIds": [
    105,
    106,
    107
   ],
   "minScale": 0,
   "maxScale": 0,
   "type": "Group Layer",
   "supportsDynamicLegends": false
  },
  {
   "id": 108,
   "name": "Country areas",
   "parentLayerId": 100,
   "defaultVisibility": true,
   "subLayerIds": [
    109,
    110
   ],
   "minScale": 0,
   "maxScale": 0,
   "type": "Group Layer",
   "supportsDynamicLegends": false
  },
  {
   "id": 111,
   "name": "Bathymetry",
   "parentLayerId": 100,
   "defaultVisibility": true,
   "subLayerIds": [
    112
   ],
   "minScale": 50000000,
   "maxScale": 0,
   "type": "Group Layer",
   "supportsDynamicLegends": false
  },
  {
   "id": 113,
   "name": "Ocean",
   "parentLayerId": 100,
   "defaultVisibility": true,
   "subLayerIds": [
    114,
    115
   ],
   "minScale": 0,
   "maxScale": 0,
   "type": "Group Layer",
   "supportsDynamicLegends": false
  }
 ],
 "tables": [],
 "spatialReference": {
  "wkid": 102100,
  "latestWkid": 3857,
  "xyTolerance": 0.001,
  "zTolerance": 0.001,
  "mTolerance": 0.001,
  "falseX": -20037700,
  "falseY": -30241100,
  "xyUnits": 10000,
  "falseZ": -100000,
  "zUnits": 10000,
  "falseM": -100000,
  "mUnits": 10000
 },
 "singleFusedMapCache": true,
 "tileInfo": {
  "rows": 256,
  "cols": 256,
  "dpi": 96,
  "format": "PNG32",
  "compressionQuality": 0,
  "origin": {
   "x": -2.0037508342787E7,
   "y": 2.0037508342787E7
  },
  "spatialReference": {
   "wkid": 102100,
   "latestWkid": 3857,
   "xyTolerance": 0.001,
   "zTolerance": 0.001,
   "mTolerance": 0.001,
   "falseX": -20037700,
   "falseY": -30241100,
   "xyUnits": 1.4892314192838538E8,
   "falseZ": -100000,
   "zUnits": 10000,
   "falseM": -100000,
   "mUnits": 10000
  },
  "lods": [
   {
    "level": 0,
    "resolution": 156543.033928,
    "scale": 5.91657527591555E8
   },
   {
    "level": 1,
    "resolution": 78271.5169639999,
    "scale": 2.95828763795777E8
   },
   {
    "level": 2,
    "resolution": 39135.7584820001,
    "scale": 1.47914381897889E8
   },
   {
    "level": 3,
    "resolution": 19567.8792409999,
    "scale": 7.3957190948944E7
   },
   {
    "level": 4,
    "resolution": 9783.93962049996,
    "scale": 3.6978595474472E7
   },
   {
    "level": 5,
    "resolution": 4891.96981024998,
    "scale": 1.8489297737236E7
   },
   {
    "level": 6,
    "resolution": 2445.98490512499,
    "scale": 9244648.868618
   },
   {
    "level": 7,
    "resolution": 1222.99245256249,
    "scale": 4622324.434309
   },
   {
    "level": 8,
    "resolution": 611.49622628138,
    "scale": 2311162.217155
   },
   {
    "level": 9,
    "resolution": 305.748113140558,
    "scale": 1155581.108577
   },
   {
    "level": 10,
    "resolution": 152.874056570411,
    "scale": 577790.554289
   },
   {
    "level": 11,
    "resolution": 76.4370282850732,
    "scale": 288895.277144
   },
   {
    "level": 12,
    "resolution": 38.2185141425366,
    "scale": 144447.638572
   },
   {
    "level": 13,
    "resolution": 19.1092570712683,
    "scale": 72223.819286
   },
   {
    "level": 14,
    "resolution": 9.55462853563415,
    "scale": 36111.909643
   },
   {
    "level": 15,
    "resolution": 4.77731426794937,
    "scale": 18055.954822
   },
   {
    "level": 16,
    "resolution": 2.38865713397468,
    "scale": 9027.977411
   },
   {
    "level": 17,
    "resolution": 1.19432856685505,
    "scale": 4513.988705
   },
   {
    "level": 18,
    "resolution": 0.597164283559817,
    "scale": 2256.994353
   },
   {
    "level": 19,
    "resolution": 0.298582141647617,
    "scale": 1128.497176
   },
   {
    "level": 20,
    "resolution": 0.14929107082380833,
    "scale": 564.248588
   },
   {
    "level": 21,
    "resolution": 0.07464553541190416,
    "scale": 282.124294
   },
   {
    "level": 22,
    "resolution": 0.03732276770595208,
    "scale": 141.062147
   },
   {
    "level": 23,
    "resolution": 0.01866138385297604,
    "scale": 70.5310735
   }
  ]
 },
 "storageInfo": {
  "storageFormat": "esriMapCacheStorageModeCompactV2",
  "packetSize": 128
 },
 "initialExtent": {
  "xmin": -2811948.235224968,
  "ymin": -97473.6072241012,
  "xmax": 1.20588420271612E7,
  "ymax": 1.3023811918410752E7,
  "spatialReference": {
   "wkid": 102100,
   "latestWkid": 3857,
   "xyTolerance": 0.001,
   "zTolerance": 0.001,
   "mTolerance": 0.001,
   "falseX": -20037700,
   "falseY": -30241100,
   "xyUnits": 10000,
   "falseZ": -100000,
   "zUnits": 10000,
   "falseM": -100000,
   "mUnits": 10000
  }
 },
 "fullExtent": {
  "xmin": -2.0037507842788287E7,
  "ymin": -2.4252868094374272E8,
  "xmax": 2.0037507842788287E7,
  "ymax": 2.4252868094374272E8,
  "spatialReference": {
   "wkid": 102100,
   "latestWkid": 3857,
   "xyTolerance": 0.001,
   "zTolerance": 0.001,
   "mTolerance": 0.001,
   "falseX": -20037700,
   "falseY": -30241100,
   "xyUnits": 10000,
   "falseZ": -100000,
   "zUnits": 10000,
   "falseM": -100000,
   "mUnits": 10000
  }
 },
 "datesInUnknownTimezone": false,
 "minScale": 0,
 "maxScale": 0,
 "units": "esriMeters",
 "supportedImageFormatTypes": "PNG32,PNG24,PNG,JPG,DIB,TIFF,EMF,PS,PDF,GIF,SVG,SVGZ,BMP",
 "documentInfo": {
  "Title": "UN_Clear0",
  "Author": "",
  "Comments": "UN_Clear0",
  "Subject": "UN_Clear0",
  "Category": "",
  "Version": "3.2.0",
  "AntialiasingMode": "Fast",
  "TextAntialiasingMode": "Force",
  "Keywords": "ClearMap WebTopo"
 },
 "supportsQueryDomains": true,
 "capabilities": "Map,Query,Data",
 "supportedQueryFormats": "JSON, geoJSON, PBF",
 "exportTilesAllowed": false,
 "referenceScale": 0.0,
 "supportsDatumTransformation": true,
 "floorAwareMapProperties": {
  "defaultFloorFilterSettings": {
   "isEnabled": false
  }
 },
 "archivingInfo": {
  "supportsHistoricMoment": false
 },
 "supportsClipping": true,
 "supportsSpatialFilter": true,
 "supportsTimeRelation": true,
 "supportsQueryDataElements": true,
 "mapUnits": {
  "uwkid": 9001
 },
 "maxSelectionCount": 2000,
 "maxRecordCount": 2000,
 "maxImageHeight": 4096,
 "maxImageWidth": 4096,
 "supportedExtensions": "WMSServer",
 "resampling": false,
 "serviceItemId": "34bc79c1c2e54a16a7fbbd1b14db3dda"
}
