View In:
ArcGIS JavaScript
ArcGIS Online Map Viewer
ArcGIS Earth
Service Description: Hosted/VHI_Arab_Region
Name: Hosted/VHI_Arab_Region
Description:
Single Fused Map Cache: false
Extent:
XMin: -17.06400701403618
YMin: -12.419994160532951
XMax: 59.83198967576027
YMax: 37.54800368845463
Spatial Reference: 4326
(4326)
Initial Extent:
XMin: -17.06400701403618
YMin: -12.419994160532951
XMax: 59.83198967576027
YMax: 37.54800368845463
Spatial Reference: 4326
(4326)
Full Extent:
XMin: -17.06400701403618
YMin: -12.419994160532951
XMax: 59.83198967576027
YMax: 37.54800368845463
Spatial Reference: 4326
(4326)
Pixel Size X: 0.035999998450279236
Pixel Size Y: 0.035999998450279236
Band Count: 1
Pixel Type: F32
RasterFunction Infos: {"rasterFunctionInfos": [{
"name": "None",
"description": "",
"help": ""
}]}
Mensuration Capabilities: Basic
Inspection Capabilities:
Has Histograms: false
Has Colormap: false
Has Multi Dimensions : false
Rendering Rule:
Min Scale: 0
Max Scale: 0
Copyright Text:
Service Data Type: esriImageServiceDataTypeGeneric
Min Values: 0
Max Values: 100
Mean Values: -9999
Standard Deviation Values: -9999
Object ID Field:
Fields:
None
Default Mosaic Method: Center
Allowed Mosaic Methods:
SortField:
SortValue: null
Mosaic Operator: First
Default Compression Quality: 75
Default Resampling Method: Bilinear
Max Record Count: null
Max Image Height: 4100
Max Image Width: 15000
Max Download Image Count: null
Max Mosaic Image Count: null
Allow Raster Function: true
Allow Copy: true
Allow Analysis: true
Allow Compute TiePoints: false
Supports Statistics: false
Supports Advanced Queries: false
Use StandardizedQueries: true
Raster Type Infos:
Name: Raster Dataset
Description: Supports all ArcGIS Raster Datasets
Help:
Has Raster Attribute Table: false
Edit Fields Info: null
Ownership Based AccessControl For Rasters: null
Child Resources:
Info
Statistics
Key Properties
Legend
Raster Function Infos
Supported Operations:
Export Image
Identify
Measure
Compute Histograms
Compute Statistics Histograms
Get Samples
Compute Class Statistics
Query Boundary
Compute Pixel Location
Compute Angles
Validate
Project