View In:
ArcGIS JavaScript
ArcGIS Online Map Viewer
ArcGIS Earth
Service Description: Hosted/RainfallYearley_RainfallYearly
Name: Hosted/RainfallYearley_RainfallYearly
Description:
Single Fused Map Cache: true
Tile Info:
- Height: 256
- Width: 256
- DPI: 96
-
Levels of Detail: 3
-
Level ID: 0
[ Start Tile, End Tile ]
- Resolution: 0.20000000298023224
- Scale: 8.405264994474871E7
-
Level ID: 1
[ Start Tile, End Tile ]
- Resolution: 0.10000000149011612
- Scale: 4.202632497237436E7
-
Level ID: 2
[ Start Tile, End Tile ]
- Resolution: 0.05000000074505806
- Scale: 2.101316248618718E7
- Format: LERC2D
- Compression Quality: 0.0
- LERC Error: 0.0
- Origin: X: -17.09999757260084
Y: 37.54999981448054
- Spatial Reference: 4326
(4326)
Storage Info:
- Storage Format: esriMapCacheStorageModeCompactV2
- Packet Size: 16
Extent:
XMin: -17.09999757260084
YMin: -12.400000929832458
XMax: 59.85000357404351
YMax: 37.54999981448054
Spatial Reference: 4326
(4326)
Initial Extent:
XMin: -17.09999757260084
YMin: -12.400000929832458
XMax: 59.85000357404351
YMax: 37.54999981448054
Spatial Reference: 4326
(4326)
Full Extent:
XMin: -17.09999757260084
YMin: -12.400000929832458
XMax: 59.85000357404351
YMax: 37.54999981448054
Spatial Reference: 4326
(4326)
Time Info:
Start Time Field: StdTime
End Time Field: StdTime
Time Extent:
[2010/01/01 00:00:00 UTC, 2023/01/01 00:00:00 UTC]
Time Reference:
N/A
Pixel Size X: 0.05000000074505806
Pixel Size Y: 0.05000000074505806
Band Count: 1
Pixel Type: F32
RasterFunction Infos: {"rasterFunctionInfos": [{
"name": "None",
"description": "Make a Raster or Raster Dataset into a Function Raster Dataset.",
"help": ""
}]}
Mensuration Capabilities: Basic
Inspection Capabilities:
Has Histograms: true
Has Colormap: false
Has Multi Dimensions : true
Rendering Rule:
Min Scale: 0
Max Scale: 0
Copyright Text:
Service Data Type: esriImageServiceDataTypeGeneric
Min Values: 0
Max Values: 671.1014404296875
Mean Values: 22.312662075685928
Standard Deviation Values: 27.718335480687667
Object ID Field:
Fields:
None
Default Mosaic Method: Center
Allowed Mosaic Methods:
SortField:
SortValue: null
Mosaic Operator: First
Default Compression Quality: 75
Default Resampling Method: Bilinear
Max Record Count: null
Max Image Height: 4100
Max Image Width: 15000
Max Download Image Count: null
Max Mosaic Image Count: null
Allow Raster Function: true
Allow Copy: true
Allow Analysis: true
Allow Compute TiePoints: false
Supports Statistics: false
Supports Advanced Queries: false
Use StandardizedQueries: true
Raster Type Infos:
Name: Raster Dataset
Description: Supports all ArcGIS Raster Datasets
Help:
Has Raster Attribute Table: false
Edit Fields Info: null
Ownership Based AccessControl For Rasters: null
Child Resources:
Info
Histograms
Statistics
Key Properties
Legend
Raster Function Infos
Multidimensional Info
Slices
Supported Operations:
Export Image
Identify
Measure
Compute Histograms
Compute Statistics Histograms
Get Samples
Compute Class Statistics
Query Boundary
Compute Pixel Location
Compute Angles
Validate
Project