View In:
ArcGIS JavaScript
ArcGIS Online Map Viewer
ArcGIS Earth
Service Description: Hosted/RainfallMonthly_Multi_anomaly
Name: Hosted/RainfallMonthly_Multi_anomaly
Description:
Single Fused Map Cache: true
Tile Info:
- Height: 256
- Width: 256
- DPI: 96
-
Levels of Detail: 3
-
Level ID: 0
[ Start Tile, End Tile ]
- Resolution: 0.20000000297999995
- Scale: 8.40526499446511E7
-
Level ID: 1
[ Start Tile, End Tile ]
- Resolution: 0.10000000148999998
- Scale: 4.202632497232555E7
-
Level ID: 2
[ Start Tile, End Tile ]
- Resolution: 0.05000000074499999
- Scale: 2.1013162486162774E7
- Format: LERC2D
- Compression Quality: 0.0
- LERC Error: 0.0
- Origin: X: -17.09999757279
Y: 37.549999814494996
- Spatial Reference: 4326
(4326)
Storage Info:
- Storage Format: esriMapCacheStorageModeCompactV2
- Packet Size: 12
Extent:
XMin: -17.09999757279
YMin: -0.1500007472349978
XMax: 54.70000349702998
YMax: 37.549999814494996
Spatial Reference: 4326
(4326)
Initial Extent:
XMin: -17.09999757279
YMin: -0.1500007472349978
XMax: 54.70000349702998
YMax: 37.549999814494996
Spatial Reference: 4326
(4326)
Full Extent:
XMin: -17.09999757279
YMin: -0.1500007472349978
XMax: 54.70000349702998
YMax: 37.549999814494996
Spatial Reference: 4326
(4326)
Time Info:
Start Time Field: StdTime
End Time Field: StdTime
Time Extent:
[2010/01/01 00:00:00 UTC, 2022/06/01 00:00:00 UTC]
Time Reference:
N/A
Pixel Size X: 0.05000000074499999
Pixel Size Y: 0.05000000074499999
Band Count: 1
Pixel Type: F64
RasterFunction Infos: {"rasterFunctionInfos": [{
"name": "None",
"description": "",
"help": ""
}]}
Mensuration Capabilities: Basic
Inspection Capabilities:
Has Histograms: true
Has Colormap: false
Has Multi Dimensions : true
Rendering Rule:
Min Scale: 0
Max Scale: 0
Copyright Text:
Service Data Type: esriImageServiceDataTypeScientific
Min Values: -319.3358459472656
Max Values: 1782.680160522461
Mean Values: 1.948687371513884E-9
Standard Deviation Values: 36.47976495618229
Object ID Field:
Fields:
None
Default Mosaic Method: Center
Allowed Mosaic Methods:
SortField:
SortValue: null
Mosaic Operator: First
Default Compression Quality: 75
Default Resampling Method: Bilinear
Max Record Count: null
Max Image Height: 4100
Max Image Width: 15000
Max Download Image Count: null
Max Mosaic Image Count: null
Allow Raster Function: true
Allow Copy: true
Allow Analysis: true
Allow Compute TiePoints: false
Supports Statistics: false
Supports Advanced Queries: false
Use StandardizedQueries: true
Raster Type Infos:
Name: Raster Dataset
Description: Supports all ArcGIS Raster Datasets
Help:
Has Raster Attribute Table: false
Edit Fields Info: null
Ownership Based AccessControl For Rasters: null
Child Resources:
Info
Histograms
Statistics
Key Properties
Legend
Raster Function Infos
Multidimensional Info
Slices
Supported Operations:
Export Image
Identify
Compute Histograms
Compute Statistics Histograms
Get Samples
Compute Class Statistics
Query Boundary
Compute Pixel Location
Compute Angles
Validate
Project