View In:
ArcGIS JavaScript
ArcGIS Online Map Viewer
ArcGIS Earth
Service Description: Hosted/Population_Reclass_Extr1_4Arab_Region_
Name: Hosted/Population_Reclass_Extr1_4Arab_Region_
Description:
Single Fused Map Cache: false
Extent:
XMin: -17.06999993124976
YMin: -12.42499994891525
XMax: 59.83999976015951
YMax: 37.55999985052686
Spatial Reference: 4326
(4326)
Initial Extent:
XMin: -17.06999993124976
YMin: -12.42499994891525
XMax: 59.83999976015951
YMax: 37.55999985052686
Spatial Reference: 4326
(4326)
Full Extent:
XMin: -17.06999993124976
YMin: -12.42499994891525
XMax: 59.83999976015951
YMax: 37.55999985052686
Spatial Reference: 4326
(4326)
Pixel Size X: 0.004999999979938192
Pixel Size Y: 0.004999999979938192
Band Count: 1
Pixel Type: U8
RasterFunction Infos: {"rasterFunctionInfos": [{
"name": "None",
"description": "",
"help": ""
}]}
Mensuration Capabilities: Basic
Inspection Capabilities:
Has Histograms: false
Has Colormap: true
Has Multi Dimensions : false
Rendering Rule:
Min Scale: 0
Max Scale: 0
Copyright Text:
Service Data Type: esriImageServiceDataTypeThematic
Min Values: N/A
Max Values: N/A
Mean Values: N/A
Standard Deviation Values: N/A
Object ID Field:
Fields:
None
Default Mosaic Method: Center
Allowed Mosaic Methods:
SortField:
SortValue: null
Mosaic Operator: First
Default Compression Quality: 75
Default Resampling Method: Bilinear
Max Record Count: null
Max Image Height: 4100
Max Image Width: 15000
Max Download Image Count: null
Max Mosaic Image Count: null
Allow Raster Function: true
Allow Copy: true
Allow Analysis: true
Allow Compute TiePoints: false
Supports Statistics: false
Supports Advanced Queries: false
Use StandardizedQueries: true
Raster Type Infos:
Name: Raster Dataset
Description: Supports all ArcGIS Raster Datasets
Help:
Has Raster Attribute Table: false
Edit Fields Info: null
Ownership Based AccessControl For Rasters: null
Child Resources:
Info
Statistics
Key Properties
Color Map
Legend
Raster Function Infos
Supported Operations:
Export Image
Identify
Measure
Compute Histograms
Compute Statistics Histograms
Get Samples
Compute Class Statistics
Query Boundary
Compute Pixel Location
Compute Angles
Validate
Project