View In:
ArcGIS JavaScript
ArcGIS Online Map Viewer
ArcGIS Earth
Service Description: Hosted/Data_extracted_from_land_lights_wgs84_EX_Clip
Name: Hosted/Data_extracted_from_land_lights_wgs84_EX_Clip
Description:
Single Fused Map Cache: true
Tile Info:
- Height: 256
- Width: 256
- DPI: 96
-
Levels of Detail: 5
-
Level ID: 0
[ Start Tile, End Tile ]
- Resolution: 0.3514841594774597
- Scale: 1.4771587288727772E8
-
Level ID: 1
[ Start Tile, End Tile ]
- Resolution: 0.17574207973872985
- Scale: 7.385793644363886E7
-
Level ID: 2
[ Start Tile, End Tile ]
- Resolution: 0.08787103986936493
- Scale: 3.692896822181943E7
-
Level ID: 3
[ Start Tile, End Tile ]
- Resolution: 0.04393551993468246
- Scale: 1.8464484110909715E7
-
Level ID: 4
[ Start Tile, End Tile ]
- Resolution: 0.02196775996734123
- Scale: 9232242.055454858
- Format: LERC2D
- Compression Quality: 100000.0
- LERC Error: 0.1
- Origin: X: -17.10318183996992
Y: 37.54393005342928
- Spatial Reference: 4326
(4326)
Storage Info:
- Storage Format: esriMapCacheStorageModeCompactV2
- Packet Size: 16
Extent:
XMin: -17.10318183996992
YMin: -12.410756112304682
XMax: 59.827913565659074
YMax: 37.54393005342928
Spatial Reference: 4326
(4326)
Initial Extent:
XMin: -17.10318183996992
YMin: -12.410756112304682
XMax: 59.827913565659074
YMax: 37.54393005342928
Spatial Reference: 4326
(4326)
Full Extent:
XMin: -17.10318183996992
YMin: -12.410756112304682
XMax: 59.827913565659074
YMax: 37.54393005342928
Spatial Reference: 4326
(4326)
Pixel Size X: 0.02196775996734123
Pixel Size Y: 0.02196775996734123
Band Count: 3
Pixel Type: U8
RasterFunction Infos: {"rasterFunctionInfos": [{
"name": "None",
"description": "",
"help": ""
}]}
Mensuration Capabilities: Basic
Inspection Capabilities:
Has Histograms: true
Has Colormap: false
Has Multi Dimensions : false
Rendering Rule:
Min Scale: 0
Max Scale: 0
Copyright Text:
Service Data Type: esriImageServiceDataTypeRGB
Min Values: 0, 0, 2
Max Values: 255, 255, 255
Mean Values: 25.450574538411356, 30.439959157034885, 71.93026800563986
Standard Deviation Values: 24.081727864232498, 22.516543483144343, 13.872346505510757
Object ID Field:
Fields:
None
Default Mosaic Method: Center
Allowed Mosaic Methods:
SortField:
SortValue: null
Mosaic Operator: First
Default Compression Quality: 75
Default Resampling Method: Nearest
Max Record Count: null
Max Image Height: 4100
Max Image Width: 15000
Max Download Image Count: null
Max Mosaic Image Count: null
Allow Raster Function: true
Allow Copy: true
Allow Analysis: true
Allow Compute TiePoints: false
Supports Statistics: false
Supports Advanced Queries: false
Use StandardizedQueries: true
Raster Type Infos:
Name: Raster Dataset
Description: Supports all ArcGIS Raster Datasets
Help:
Has Raster Attribute Table: false
Edit Fields Info: null
Ownership Based AccessControl For Rasters: null
Child Resources:
Info
Histograms
Statistics
Key Properties
Legend
Raster Function Infos
Supported Operations:
Export Image
Identify
Compute Histograms
Compute Statistics Histograms
Get Samples
Compute Class Statistics
Query Boundary
Compute Pixel Location
Compute Angles
Validate
Project