View In:
ArcGIS JavaScript
ArcGIS Online Map Viewer
ArcGIS Earth
Service Description: Hosted/2020_Arab_region_population_data
Name: Hosted/2020_Arab_region_population_data
Description:
Single Fused Map Cache: true
Tile Info:
- Height: 256
- Width: 256
- DPI: 96
-
Levels of Detail: 4
-
Level ID: 0
[ Start Tile, End Tile ]
- Resolution: 46509.603043612304
- Scale: 1.7578397489539355E8
-
Level ID: 1
[ Start Tile, End Tile ]
- Resolution: 23254.801521806152
- Scale: 8.789198744769678E7
-
Level ID: 2
[ Start Tile, End Tile ]
- Resolution: 11627.400760903076
- Scale: 4.394599372384839E7
-
Level ID: 3
[ Start Tile, End Tile ]
- Resolution: 5813.700380451538
- Scale: 2.1972996861924194E7
- Format: LERC2D
- Compression Quality: 0.0
- LERC Error: 0.0
- Origin: X: -2020448.7497441387
Y: 5434543.681609183
- Spatial Reference: 102100
(3857)
Storage Info:
- Storage Format: esriMapCacheStorageModeCompactV2
- Packet Size: 16
Extent:
XMin: -2020448.7497441387
YMin: -1396554.2654213747
XMax: 7054737.544140712
YMax: 5434543.681609183
Spatial Reference: 102100
(3857)
Initial Extent:
XMin: -2020448.7497441387
YMin: -1396554.2654213747
XMax: 7054737.544140712
YMax: 5434543.681609183
Spatial Reference: 102100
(3857)
Full Extent:
XMin: -2020448.7497441387
YMin: -1396554.2654213747
XMax: 7054737.544140712
YMax: 5434543.681609183
Spatial Reference: 102100
(3857)
Pixel Size X: 5813.700380451538
Pixel Size Y: 5813.700380451538
Band Count: 1
Pixel Type: F32
RasterFunction Infos: {"rasterFunctionInfos": [{
"name": "None",
"description": "",
"help": ""
}]}
Mensuration Capabilities: Basic
Inspection Capabilities:
Has Histograms: true
Has Colormap: false
Has Multi Dimensions : false
Rendering Rule:
Min Scale: 0
Max Scale: 0
Copyright Text:
Service Data Type: esriImageServiceDataTypeGeneric
Min Values: 0
Max Values: 1622187.875
Mean Values: 986.0300701893791
Standard Deviation Values: 9947.112827060544
Object ID Field:
Fields:
None
Default Mosaic Method: Center
Allowed Mosaic Methods:
SortField:
SortValue: null
Mosaic Operator: First
Default Compression Quality: 75
Default Resampling Method: Bilinear
Max Record Count: null
Max Image Height: 4100
Max Image Width: 15000
Max Download Image Count: null
Max Mosaic Image Count: null
Allow Raster Function: true
Allow Copy: true
Allow Analysis: true
Allow Compute TiePoints: false
Supports Statistics: false
Supports Advanced Queries: false
Use StandardizedQueries: true
Raster Type Infos:
Name: Raster Dataset
Description: Supports all ArcGIS Raster Datasets
Help:
Has Raster Attribute Table: false
Edit Fields Info: null
Ownership Based AccessControl For Rasters: null
Child Resources:
Info
Histograms
Statistics
Key Properties
Legend
Raster Function Infos
Supported Operations:
Export Image
Identify
Compute Histograms
Compute Statistics Histograms
Get Samples
Compute Class Statistics
Query Boundary
Compute Pixel Location
Compute Angles
Validate
Project