View In:
ArcGIS JavaScript
ArcGIS Online Map Viewer
ArcGIS Earth
ArcGIS Pro
Service Description: ClearMap Topo
Map Name: CLEARMAP_ITRF
Legend
All Layers and Tables
Layers:
Description: The United Nations Clear Map (hereinafter “Clear Map”) is a background reference web mapping service produced to facilitate “the issuance of any map at any duty station, including dissemination via public electronic networks such as Internet” and “to ensure that maps meet publication standards and that they are not in contravention of existing United Nations policies” in accordance with the Administrative Instruction on “Regulations for the Control and Limitation of Documentation – Guidelines for the Publication of Maps” of 20 January 1997 (http://undocs.org/ST/AI/189/Add.25/Rev.1).Clear Map is created for the use of the United Nations Secretariat and community. All departments, offices and regional commissions of the United Nations Secretariat including offices away from Headquarters using Clear Map remain bound to the instructions as contained in the Administrative Instruction and should therefore seek clearance from the UN Geospatial Information Section (formerly Cartographic Section) prior to the issuance of their thematic maps using Clear Map as background reference. DISCLAIMERS:The designations employed and the presentation of material on this map do not imply the expression of any opinion whatsoever on the part of the Secretariat of the United Nations concerning the legal status of any country, territory, city or area or of its authorities, or concerning the delimitation of its frontiers or boundaries.Final boundary between the Republic of Sudan the Republic of South Sudan has not yet been determined.Final status of the Abyei area is not yet determined.* Dotted line represents approximately the Line of Control in Jammu and Kashmir agreed upon by India and Pakistan. The final status of Jammu and Kashmir has not yet been agreed upon by the parties.** Chagos Archipelago appears without prejudice to the question of sovereignty.*** A dispute exists between the Governments of Argentina and the United Kingdom of Great Britain and Northern Ireland concerning sovereignty over the Falkland Islands (Malvinas).
Service Item Id: 6f4eb9e136ee43758a62f587ceb0da01
Copyright Text: Produced by <a href='https://geoportal.un.org/arcgis/home/item.html?id=541557fd0d4d42efb24449be614e6887' target='blank' style='text-decoration: none;'>United Nations Geospatial</a>
Spatial Reference:
104257
(8999)
LatestVCSWkid(0)
Single Fused Map Cache: true
Tile Info:
- Height: 256
- Width: 256
- DPI: 96
-
Levels of Detail: 19
-
Level ID: 0
[ Start Tile, End Tile ]
- Resolution: 1.4062499999999987
- Scale: 5.916587109091305E8
-
Level ID: 1
[ Start Tile, End Tile ]
- Resolution: 0.7031249999999993
- Scale: 2.958293554545652E8
-
Level ID: 2
[ Start Tile, End Tile ]
- Resolution: 0.35156249999999967
- Scale: 1.479146777272826E8
-
Level ID: 3
[ Start Tile, End Tile ]
- Resolution: 0.17578124999999983
- Scale: 7.39573388636413E7
-
Level ID: 4
[ Start Tile, End Tile ]
- Resolution: 0.08789062499999992
- Scale: 3.697866943182065E7
-
Level ID: 5
[ Start Tile, End Tile ]
- Resolution: 0.04394531249999996
- Scale: 1.8489334715910327E7
-
Level ID: 6
[ Start Tile, End Tile ]
- Resolution: 0.02197265624999998
- Scale: 9244667.357955163
-
Level ID: 7
[ Start Tile, End Tile ]
- Resolution: 0.01098632812499999
- Scale: 4622333.678977582
-
Level ID: 8
[ Start Tile, End Tile ]
- Resolution: 0.005493164062499995
- Scale: 2311166.839488791
-
Level ID: 9
[ Start Tile, End Tile ]
- Resolution: 0.0027465820312499974
- Scale: 1155583.4197443954
-
Level ID: 10
[ Start Tile, End Tile ]
- Resolution: 0.0013732910156249987
- Scale: 577791.7098721977
-
Level ID: 11
[ Start Tile, End Tile ]
- Resolution: 6.866455078124993E-4
- Scale: 288895.85493609885
-
Level ID: 12
[ Start Tile, End Tile ]
- Resolution: 3.433227539062497E-4
- Scale: 144447.92746804943
-
Level ID: 13
[ Start Tile, End Tile ]
- Resolution: 1.7166137695312484E-4
- Scale: 72223.96373402471
-
Level ID: 14
[ Start Tile, End Tile ]
- Resolution: 8.583068847656242E-5
- Scale: 36111.98186701236
-
Level ID: 15
[ Start Tile, End Tile ]
- Resolution: 4.291534423828121E-5
- Scale: 18055.99093350618
-
Level ID: 16
[ Start Tile, End Tile ]
- Resolution: 2.1457672119140605E-5
- Scale: 9027.99546675309
-
Level ID: 17
[ Start Tile, End Tile ]
- Resolution: 1.0728836059570302E-5
- Scale: 4513.997733376545
-
Level ID: 18
[ Start Tile, End Tile ]
- Resolution: 5.364418029785151E-6
- Scale: 2256.9988666882723
- Format: PNG
- Compression Quality: 0.0
- Origin: X: -179.99999999999983
Y: 179.99999999999983
- Spatial Reference: 104257
(8999)
LatestVCSWkid(0)
Storage Info:
- Storage Format: esriMapCacheStorageModeCompactV2
- Packet Size: 128
Initial Extent:
XMin: 105.34525928139189
YMin: 17.007131943991148
XMax: 128.13325928138585
YMax: 27.267131943988417
Spatial Reference: 104257
(0)
LatestVCSWkid(0)
Full Extent:
XMin: -180.0
YMin: -90.0
XMax: 180.00000159317543
YMax: 90.0
Spatial Reference: 104257
(0)
LatestVCSWkid(0)
Units: esriDecimalDegrees
Supported Image Format Types: PNG32,PNG24,PNG,JPG,DIB,TIFF,EMF,PS,PDF,GIF,SVG,SVGZ,BMP
Document Info:
Title: UN_Clear0
Author:
Comments: UN_Clear0
Subject: UN_Clear0
Category:
Keywords: ClearMap Topo
AntialiasingMode: Fast
TextAntialiasingMode: Force
Supports Dynamic Layers: false
Resampling: false
MaxRecordCount: 2000
MaxSelectionCount: 2000
MaxImageHeight: 4096
MaxImageWidth: 4096
Supported Query Formats: JSON, geoJSON, PBF
Supports Query Data Elements: true
Min Scale: 5.916587109091305E8
Max Scale: 4622333.678977582
Supports Datum Transformation: true
Child Resources:
Info
Supported Operations:
Export Map
Identify
QueryLegends
QueryDomains
Find
Return Updates