View In:
ArcGIS JavaScript
ArcGIS Online Map Viewer
ArcGIS Earth
ArcGIS Pro
Service Description:
Map Name: DARK_ITRF
Legend
All Layers and Tables
Dynamic Legend
Dynamic All Layers
Layers:
Description: UN_Clear0
Service Item Id: c9e2348912d34cd29a72a042fa0f1717
Copyright Text: Produced by <a href='https://geoportal.un.org/arcgis/home/item.html?id=541557fd0d4d42efb24449be614e6887' target='blank' style='text-decoration: none;'>United Nations Geospatial</a>
Spatial Reference:
104257
(8999)
LatestVCSWkid(0)
Single Fused Map Cache: true
Tile Info:
- Height: 256
- Width: 256
- DPI: 96
-
Levels of Detail: 23
-
Level ID: 11
[ Start Tile, End Tile ]
- Resolution: 2.9046154856326664E-4
- Scale: 122070.3125
-
Level ID: 12
[ Start Tile, End Tile ]
- Resolution: 1.4523077428163332E-4
- Scale: 61035.15625
-
Level ID: 13
[ Start Tile, End Tile ]
- Resolution: 7.261538714081666E-5
- Scale: 30517.578125
-
Level ID: 14
[ Start Tile, End Tile ]
- Resolution: 3.630769357040833E-5
- Scale: 15258.7890625
-
Level ID: 15
[ Start Tile, End Tile ]
- Resolution: 1.8153846785204165E-5
- Scale: 7629.39453125
-
Level ID: 16
[ Start Tile, End Tile ]
- Resolution: 9.076923392602082E-6
- Scale: 3814.697265625
-
Level ID: 17
[ Start Tile, End Tile ]
- Resolution: 4.538461696301041E-6
- Scale: 1907.3486328125
-
Level ID: 18
[ Start Tile, End Tile ]
- Resolution: 2.2692308481505206E-6
- Scale: 953.67431640625
-
Level ID: 19
[ Start Tile, End Tile ]
- Resolution: 1.1346154240752603E-6
- Scale: 476.837158203125
-
Level ID: 20
[ Start Tile, End Tile ]
- Resolution: 5.673077120376302E-7
- Scale: 238.4185791015625
-
Level ID: 21
[ Start Tile, End Tile ]
- Resolution: 2.836538560188151E-7
- Scale: 119.20928955078125
-
Level ID: 22
[ Start Tile, End Tile ]
- Resolution: 1.4182692800940754E-7
- Scale: 59.604644775390625
- Format: PNG
- Compression Quality: 0.0
- Origin: X: -400.0
Y: 400.0
- Spatial Reference: 104257
(8999)
LatestVCSWkid(0)
Storage Info:
- Storage Format: esriMapCacheStorageModeCompactV2
- Packet Size: 128
Initial Extent:
XMin: 98.87798481989907
YMin: 6.4620994412208645
XMax: 143.70220356988716
YMax: 46.01288069121036
Spatial Reference: 104257
(8999)
LatestVCSWkid(0)
Full Extent:
XMin: -180.07288499099997
YMin: -90.0
XMax: 180.1429823620001
YMax: 90.0
Spatial Reference: 104257
(8999)
LatestVCSWkid(0)
Units: esriDecimalDegrees
Supported Image Format Types: PNG32,PNG24,PNG,JPG,DIB,TIFF,EMF,PS,PDF,GIF,SVG,SVGZ,BMP
Document Info:
Title: UN_Clear0
Author:
Comments: UN_Clear0
Subject: UN_Clear0
Category:
Keywords: UN_Clear0
AntialiasingMode: Fast
TextAntialiasingMode: Force
Supports Dynamic Layers: true
Resampling: false
MaxRecordCount: 2000
MaxSelectionCount: 2000
MaxImageHeight: 4096
MaxImageWidth: 4096
Supported Query Formats: JSON, geoJSON, PBF
Supports Query Data Elements: true
Min Scale: 0
Max Scale: 0
Supports Datum Transformation: true
Child Resources:
Info
Dynamic Layer
Supported Operations:
Export Map
Identify
QueryLegends
QueryDomains
Find
Return Updates