{ "currentVersion": 11.4, "cimVersion": "3.4.0", "serviceDescription": "
UN_CLEARMAP_VT<\/SPAN><\/P><\/DIV><\/DIV><\/DIV>",
"mapName": "UNESCAP_Custom_ClearMapWebTopo_CVW_V01",
"description": "",
"copyrightText": "UN_CLEARMAP_VT",
"supportsDynamicLayers": false,
"layers": [
{
"id": 0,
"name": "WBYA Features",
"parentLayerId": -1,
"defaultVisibility": true,
"subLayerIds": [
1,
2,
3,
4,
5
],
"minScale": 0,
"maxScale": 5000000,
"type": "Group Layer",
"supportsDynamicLegends": false
},
{
"id": 6,
"name": "DRAL Features",
"parentLayerId": -1,
"defaultVisibility": true,
"subLayerIds": [
7,
8,
9,
10
],
"minScale": 0,
"maxScale": 5000000,
"type": "Group Layer",
"supportsDynamicLegends": false
},
{
"id": 11,
"name": "Base Layers",
"parentLayerId": -1,
"defaultVisibility": true,
"subLayerIds": [
12,
15,
16,
17,
20,
22
],
"minScale": 0,
"maxScale": 5000000,
"type": "Group Layer",
"supportsDynamicLegends": false
},
{
"id": 12,
"name": "Coastline",
"parentLayerId": 11,
"defaultVisibility": true,
"subLayerIds": [
13,
14
],
"minScale": 0,
"maxScale": 0,
"type": "Group Layer",
"supportsDynamicLegends": false
},
{
"id": 14,
"name": "Coastline_L01-L04",
"parentLayerId": 12,
"defaultVisibility": true,
"subLayerIds": null,
"minScale": 0,
"maxScale": 20000000,
"type": "Feature Layer",
"geometryType": "esriGeometryPolyline",
"supportsDynamicLegends": true
},
{
"id": 16,
"name": "Hillshade",
"parentLayerId": 11,
"defaultVisibility": true,
"subLayerIds": null,
"minScale": 200000000,
"maxScale": 5000000,
"type": "Feature Layer",
"geometryType": "esriGeometryPolygon",
"supportsDynamicLegends": true
},
{
"id": 17,
"name": "Country areas",
"parentLayerId": 11,
"defaultVisibility": true,
"subLayerIds": [
18,
19
],
"minScale": 0,
"maxScale": 0,
"type": "Group Layer",
"supportsDynamicLegends": false
},
{
"id": 18,
"name": "BNDA_L01-L04",
"parentLayerId": 17,
"defaultVisibility": true,
"subLayerIds": null,
"minScale": 0,
"maxScale": 20000000,
"type": "Feature Layer",
"geometryType": "esriGeometryPolygon",
"supportsDynamicLegends": true
},
{
"id": 20,
"name": "Bathymetry",
"parentLayerId": 11,
"defaultVisibility": true,
"subLayerIds": [
21
],
"minScale": 50000000,
"maxScale": 0,
"type": "Group Layer",
"supportsDynamicLegends": false
},
{
"id": 21,
"name": "UNOM_Base.DMC.CUSTOM_NE_10m_bathymetry",
"parentLayerId": 20,
"defaultVisibility": true,
"subLayerIds": null,
"minScale": 50000000,
"maxScale": 0,
"type": "Feature Layer",
"geometryType": "esriGeometryPolygon",
"supportsDynamicLegends": true
},
{
"id": 22,
"name": "Ocean",
"parentLayerId": 11,
"defaultVisibility": true,
"subLayerIds": [
23,
24
],
"minScale": 0,
"maxScale": 0,
"type": "Group Layer",
"supportsDynamicLegends": false
},
{
"id": 23,
"name": "Ocean_L04-L06",
"parentLayerId": 22,
"defaultVisibility": true,
"subLayerIds": null,
"minScale": 50000000,
"maxScale": 5000000,
"type": "Feature Layer",
"geometryType": "esriGeometryPolygon",
"supportsDynamicLegends": true
},
{
"id": 24,
"name": "Ocean_L0-L03",
"parentLayerId": 22,
"defaultVisibility": true,
"subLayerIds": null,
"minScale": 0,
"maxScale": 50000000,
"type": "Feature Layer",
"geometryType": "esriGeometryPolygon",
"supportsDynamicLegends": true
}
],
"tables": [],
"spatialReference": {
"wkid": 102100,
"latestWkid": 3857,
"xyTolerance": 0.001,
"zTolerance": 0.001,
"mTolerance": 0.001,
"falseX": -20037700,
"falseY": -30241100,
"xyUnits": 10000,
"falseZ": -100000,
"zUnits": 10000,
"falseM": -100000,
"mUnits": 10000
},
"singleFusedMapCache": true,
"tileInfo": {
"rows": 256,
"cols": 256,
"dpi": 96,
"format": "PNG",
"compressionQuality": 0,
"origin": {
"x": -2.0037508342787E7,
"y": 2.0037508342787E7
},
"spatialReference": {
"wkid": 102100,
"latestWkid": 3857,
"xyTolerance": 0.001,
"zTolerance": 0.001,
"mTolerance": 0.001,
"falseX": -20037700,
"falseY": -30241100,
"xyUnits": 1.4892314192838538E8,
"falseZ": -100000,
"zUnits": 10000,
"falseM": -100000,
"mUnits": 10000
},
"lods": [
{
"level": 0,
"resolution": 156543.033928,
"scale": 5.91657527591555E8
},
{
"level": 1,
"resolution": 78271.5169639999,
"scale": 2.95828763795777E8
},
{
"level": 2,
"resolution": 39135.7584820001,
"scale": 1.47914381897889E8
},
{
"level": 3,
"resolution": 19567.8792409999,
"scale": 7.3957190948944E7
},
{
"level": 4,
"resolution": 9783.93962049996,
"scale": 3.6978595474472E7
},
{
"level": 5,
"resolution": 4891.96981024998,
"scale": 1.8489297737236E7
},
{
"level": 6,
"resolution": 2445.98490512499,
"scale": 9244648.868618
},
{
"level": 7,
"resolution": 1222.99245256249,
"scale": 4622324.434309
},
{
"level": 8,
"resolution": 611.49622628138,
"scale": 2311162.217155
},
{
"level": 9,
"resolution": 305.748113140558,
"scale": 1155581.108577
},
{
"level": 10,
"resolution": 152.874056570411,
"scale": 577790.554289
},
{
"level": 11,
"resolution": 76.4370282850732,
"scale": 288895.277144
},
{
"level": 12,
"resolution": 38.2185141425366,
"scale": 144447.638572
},
{
"level": 13,
"resolution": 19.1092570712683,
"scale": 72223.819286
},
{
"level": 14,
"resolution": 9.55462853563415,
"scale": 36111.909643
},
{
"level": 15,
"resolution": 4.77731426794937,
"scale": 18055.954822
},
{
"level": 16,
"resolution": 2.38865713397468,
"scale": 9027.977411
},
{
"level": 17,
"resolution": 1.19432856685505,
"scale": 4513.988705
},
{
"level": 18,
"resolution": 0.597164283559817,
"scale": 2256.994353
},
{
"level": 19,
"resolution": 0.298582141647617,
"scale": 1128.497176
},
{
"level": 20,
"resolution": 0.14929107082380833,
"scale": 564.248588
},
{
"level": 21,
"resolution": 0.07464553541190416,
"scale": 282.124294
},
{
"level": 22,
"resolution": 0.03732276770595208,
"scale": 141.062147
},
{
"level": 23,
"resolution": 0.01866138385297604,
"scale": 70.5310735
}
]
},
"storageInfo": {
"storageFormat": "esriMapCacheStorageModeCompactV2",
"packetSize": 128
},
"initialExtent": {
"xmin": 8840065.406218074,
"ymin": 2293046.8447407577,
"xmax": 1.1876031375829395E7,
"ymax": 3889785.8134986954,
"spatialReference": {
"cs": "pcs",
"wkid": 102100
}
},
"fullExtent": {
"xmin": -2.0037507842788246E7,
"ymin": -3.0240971958386146E7,
"xmax": 2.0037507842788246E7,
"ymax": 3.024097195838615E7,
"spatialReference": {
"cs": "pcs",
"wkid": 102100
}
},
"datesInUnknownTimezone": false,
"minScale": 5.91657527591555E8,
"maxScale": 2311162.217155,
"units": "esriMeters",
"supportedImageFormatTypes": "PNG32,PNG24,PNG,JPG,DIB,TIFF,EMF,PS,PDF,GIF,SVG,SVGZ,BMP",
"documentInfo": {
"Title": "Map",
"Author": "",
"Comments": " UN_CLEARMAP_VT<\/SPAN><\/P><\/DIV><\/DIV><\/DIV>",
"Subject": "UN_CLEARMAP_VT",
"Category": "",
"Version": "2.4.0",
"AntialiasingMode": "Fast",
"TextAntialiasingMode": "Force",
"Keywords": "UN_CLEARMAP_VT"
},
"supportsQueryDomains": true,
"capabilities": "Map,Query,Data",
"supportedQueryFormats": "JSON, geoJSON, PBF",
"exportTilesAllowed": false,
"referenceScale": 0.0,
"datumTransformations": [
{
"geoTransforms": [
{
"wkid": 108360,
"latestWkid": 108360,
"transformForward": true,
"name": "ITRF_2008_To_NAD_1983_2011"
},
{
"wkid": 108363,
"latestWkid": 108363,
"transformForward": false,
"name": "WGS_1984_(ITRF08)_To_NAD_1983_2011"
}
]
},
{
"geoTransforms": [
{
"wkid": 108363,
"latestWkid": 108363,
"transformForward": true,
"name": "WGS_1984_(ITRF08)_To_NAD_1983_2011"
},
{
"wkid": 108360,
"latestWkid": 108360,
"transformForward": false,
"name": "ITRF_2008_To_NAD_1983_2011"
}
]
}
],
"supportsDatumTransformation": true,
"archivingInfo": {"supportsHistoricMoment": false},
"supportsClipping": true,
"supportsSpatialFilter": true,
"supportsTimeRelation": true,
"supportsQueryDataElements": true,
"mapUnits": {"uwkid": 9001},
"maxSelectionCount": 2000,
"maxRecordCount": 2000,
"maxImageHeight": 4096,
"maxImageWidth": 4096,
"supportedExtensions": "",
"resampling": false,
"serviceItemId": "324aea346e684e07936d6bf539d69f00"
}