{ "currentVersion": 11.2, "cimVersion": "3.2.0", "serviceDescription": "
Unite Street Map Vector Tiles service<\/SPAN><\/P><\/DIV><\/DIV><\/DIV>",
"mapName": "UNMISS_Custom_Basemap",
"description": " Unite Street Map Vector Tiles service<\/SPAN><\/P><\/DIV><\/DIV><\/DIV>",
"copyrightText": "Powered by Unite Maps",
"supportsDynamicLayers": true,
"layers": [
{
"id": 0,
"name": "Labels",
"parentLayerId": -1,
"defaultVisibility": true,
"subLayerIds": [
1,
2,
3,
4,
5,
6,
7,
8,
9,
10,
11,
12,
13,
14,
15,
16
],
"minScale": 0,
"maxScale": 0,
"type": "Group Layer",
"supportsDynamicLegends": false
},
{
"id": 1,
"name": "LAB_Antarctica",
"parentLayerId": 0,
"defaultVisibility": true,
"subLayerIds": null,
"minScale": 0,
"maxScale": 0,
"type": "Feature Layer",
"geometryType": "esriGeometryPoint",
"supportsDynamicLegends": true
},
{
"id": 2,
"name": "LAB_Country_L03_P",
"parentLayerId": 0,
"defaultVisibility": true,
"subLayerIds": null,
"minScale": 80000000,
"maxScale": 40000000,
"type": "Feature Layer",
"geometryType": "esriGeometryPoint",
"supportsDynamicLegends": true
},
{
"id": 3,
"name": "LAB_Country_L04_P",
"parentLayerId": 0,
"defaultVisibility": true,
"subLayerIds": null,
"minScale": 40000000,
"maxScale": 20000000,
"type": "Feature Layer",
"geometryType": "esriGeometryPoint",
"supportsDynamicLegends": true
},
{
"id": 4,
"name": "LAB_Country_L05_P",
"parentLayerId": 0,
"defaultVisibility": true,
"subLayerIds": null,
"minScale": 20000000,
"maxScale": 10000000,
"type": "Feature Layer",
"geometryType": "esriGeometryPoint",
"supportsDynamicLegends": true
},
{
"id": 5,
"name": "LAB_Country_L06_P",
"parentLayerId": 0,
"defaultVisibility": true,
"subLayerIds": null,
"minScale": 10000000,
"maxScale": 5000000,
"type": "Feature Layer",
"geometryType": "esriGeometryPoint",
"supportsDynamicLegends": true
},
{
"id": 6,
"name": "LAB_Country_L",
"parentLayerId": 0,
"defaultVisibility": true,
"subLayerIds": null,
"minScale": 0,
"maxScale": 0,
"type": "Feature Layer",
"geometryType": "esriGeometryPoint",
"supportsDynamicLegends": true
},
{
"id": 7,
"name": "LAB_Autonomous_L",
"parentLayerId": 0,
"defaultVisibility": true,
"subLayerIds": null,
"minScale": 5000000,
"maxScale": 2000000,
"type": "Feature Layer",
"geometryType": "esriGeometryPoint",
"supportsDynamicLegends": true
},
{
"id": 8,
"name": "LAB_Admin1_HQ",
"parentLayerId": 0,
"defaultVisibility": true,
"subLayerIds": null,
"minScale": 3000000,
"maxScale": 1000000,
"type": "Feature Layer",
"geometryType": "esriGeometryPolygon",
"supportsDynamicLegends": true
},
{
"id": 9,
"name": "LAB_Admin1_NoHQ",
"parentLayerId": 0,
"defaultVisibility": true,
"subLayerIds": null,
"minScale": 3000000,
"maxScale": 1000000,
"type": "Feature Layer",
"geometryType": "esriGeometryPolygon",
"supportsDynamicLegends": true
},
{
"id": 10,
"name": "LAB_Admin2_HQ",
"parentLayerId": 0,
"defaultVisibility": true,
"subLayerIds": null,
"minScale": 1000000,
"maxScale": 0,
"type": "Feature Layer",
"geometryType": "esriGeometryPolygon",
"supportsDynamicLegends": true
},
{
"id": 11,
"name": "LAB_Admin2_NoHQ",
"parentLayerId": 0,
"defaultVisibility": true,
"subLayerIds": null,
"minScale": 1000000,
"maxScale": 0,
"type": "Feature Layer",
"geometryType": "esriGeometryPolygon",
"supportsDynamicLegends": true
},
{
"id": 12,
"name": "LAB_Admin3_MIK",
"parentLayerId": 0,
"defaultVisibility": true,
"subLayerIds": null,
"minScale": 1000000,
"maxScale": 0,
"type": "Feature Layer",
"geometryType": "esriGeometryPolygon",
"supportsDynamicLegends": true
},
{
"id": 13,
"name": "LAB_Admin3_VMC",
"parentLayerId": 0,
"defaultVisibility": true,
"subLayerIds": null,
"minScale": 100000,
"maxScale": 0,
"type": "Feature Layer",
"geometryType": "esriGeometryPolygon",
"supportsDynamicLegends": true
},
{
"id": 14,
"name": "LAB_Water_L",
"parentLayerId": 0,
"defaultVisibility": true,
"subLayerIds": null,
"minScale": 4622324,
"maxScale": 0,
"type": "Feature Layer",
"geometryType": "esriGeometryPoint",
"supportsDynamicLegends": true
},
{
"id": 15,
"name": "LAB_Water_M",
"parentLayerId": 0,
"defaultVisibility": true,
"subLayerIds": null,
"minScale": 18489298,
"maxScale": 0,
"type": "Feature Layer",
"geometryType": "esriGeometryPoint",
"supportsDynamicLegends": true
},
{
"id": 16,
"name": "LAB_Water_S",
"parentLayerId": 0,
"defaultVisibility": true,
"subLayerIds": null,
"minScale": 0,
"maxScale": 18489298,
"type": "Feature Layer",
"geometryType": "esriGeometryPoint",
"supportsDynamicLegends": true
},
{
"id": 17,
"name": "Places",
"parentLayerId": -1,
"defaultVisibility": true,
"subLayerIds": [
18,
19,
20
],
"minScale": 0,
"maxScale": 0,
"type": "Group Layer",
"supportsDynamicLegends": false
},
{
"id": 18,
"name": "PPL_Capitals",
"parentLayerId": 17,
"defaultVisibility": true,
"subLayerIds": null,
"minScale": 20000000,
"maxScale": 100000,
"type": "Feature Layer",
"geometryType": "esriGeometryPoint",
"supportsDynamicLegends": true
},
{
"id": 19,
"name": "PPL_OSM",
"parentLayerId": 17,
"defaultVisibility": true,
"subLayerIds": null,
"minScale": 5000000,
"maxScale": 0,
"type": "Feature Layer",
"geometryType": "esriGeometryPoint",
"supportsDynamicLegends": true
},
{
"id": 20,
"name": "PPL_Mission",
"parentLayerId": 17,
"defaultVisibility": true,
"subLayerIds": null,
"minScale": 5000000,
"maxScale": 0,
"type": "Feature Layer",
"geometryType": "esriGeometryPoint",
"supportsDynamicLegends": true
},
{
"id": 21,
"name": "POI",
"parentLayerId": -1,
"defaultVisibility": true,
"subLayerIds": [
22,
23,
24,
25,
26,
27,
28,
29,
30,
31,
32,
33,
34,
35,
36,
37,
38
],
"minScale": 0,
"maxScale": 0,
"type": "Group Layer",
"supportsDynamicLegends": false
},
{
"id": 22,
"name": "POI_Mission",
"parentLayerId": 21,
"defaultVisibility": true,
"subLayerIds": null,
"minScale": 3000000,
"maxScale": 0,
"type": "Feature Layer",
"geometryType": "esriGeometryPoint",
"supportsDynamicLegends": true
},
{
"id": 23,
"name": "POI_IATA_P",
"parentLayerId": 21,
"defaultVisibility": true,
"subLayerIds": null,
"minScale": 3000000,
"maxScale": 0,
"type": "Feature Layer",
"geometryType": "esriGeometryPoint",
"supportsDynamicLegends": true
},
{
"id": 24,
"name": "POI_IATA_A",
"parentLayerId": 21,
"defaultVisibility": true,
"subLayerIds": null,
"minScale": 3000000,
"maxScale": 0,
"type": "Feature Layer",
"geometryType": "esriGeometryPoint",
"supportsDynamicLegends": true
},
{
"id": 25,
"name": "POI_Transport_P",
"parentLayerId": 21,
"defaultVisibility": true,
"subLayerIds": null,
"minScale": 500000,
"maxScale": 0,
"type": "Feature Layer",
"geometryType": "esriGeometryPoint",
"supportsDynamicLegends": true
},
{
"id": 26,
"name": "POI_Transport_A",
"parentLayerId": 21,
"defaultVisibility": true,
"subLayerIds": null,
"minScale": 500000,
"maxScale": 0,
"type": "Feature Layer",
"geometryType": "esriGeometryPoint",
"supportsDynamicLegends": true
},
{
"id": 27,
"name": "POI_Public_P",
"parentLayerId": 21,
"defaultVisibility": true,
"subLayerIds": null,
"minScale": 100000,
"maxScale": 0,
"type": "Feature Layer",
"geometryType": "esriGeometryPoint",
"supportsDynamicLegends": true
},
{
"id": 28,
"name": "POI_Public_A",
"parentLayerId": 21,
"defaultVisibility": true,
"subLayerIds": null,
"minScale": 100000,
"maxScale": 0,
"type": "Feature Layer",
"geometryType": "esriGeometryPoint",
"supportsDynamicLegends": true
},
{
"id": 29,
"name": "POI_Service_P",
"parentLayerId": 21,
"defaultVisibility": true,
"subLayerIds": null,
"minScale": 20000,
"maxScale": 0,
"type": "Feature Layer",
"geometryType": "esriGeometryPoint",
"supportsDynamicLegends": true
},
{
"id": 30,
"name": "POI_Service_A",
"parentLayerId": 21,
"defaultVisibility": true,
"subLayerIds": null,
"minScale": 20000,
"maxScale": 0,
"type": "Feature Layer",
"geometryType": "esriGeometryPoint",
"supportsDynamicLegends": true
},
{
"id": 31,
"name": "POI_Worship_P",
"parentLayerId": 21,
"defaultVisibility": true,
"subLayerIds": null,
"minScale": 20000,
"maxScale": 0,
"type": "Feature Layer",
"geometryType": "esriGeometryPoint",
"supportsDynamicLegends": true
},
{
"id": 32,
"name": "POI_Worship_A",
"parentLayerId": 21,
"defaultVisibility": true,
"subLayerIds": null,
"minScale": 20000,
"maxScale": 0,
"type": "Feature Layer",
"geometryType": "esriGeometryPoint",
"supportsDynamicLegends": true
},
{
"id": 33,
"name": "POI_Heritage_P",
"parentLayerId": 21,
"defaultVisibility": true,
"subLayerIds": null,
"minScale": 5000,
"maxScale": 0,
"type": "Feature Layer",
"geometryType": "esriGeometryPoint",
"supportsDynamicLegends": true
},
{
"id": 34,
"name": "POI_Heritage_A",
"parentLayerId": 21,
"defaultVisibility": true,
"subLayerIds": null,
"minScale": 5000,
"maxScale": 0,
"type": "Feature Layer",
"geometryType": "esriGeometryPoint",
"supportsDynamicLegends": true
},
{
"id": 35,
"name": "POI_Other_P",
"parentLayerId": 21,
"defaultVisibility": true,
"subLayerIds": null,
"minScale": 5000,
"maxScale": 0,
"type": "Feature Layer",
"geometryType": "esriGeometryPoint",
"supportsDynamicLegends": true
},
{
"id": 36,
"name": "POI_Other_A",
"parentLayerId": 21,
"defaultVisibility": true,
"subLayerIds": null,
"minScale": 5000,
"maxScale": 0,
"type": "Feature Layer",
"geometryType": "esriGeometryPoint",
"supportsDynamicLegends": true
},
{
"id": 37,
"name": "POI_Water_P",
"parentLayerId": 21,
"defaultVisibility": true,
"subLayerIds": null,
"minScale": 5000,
"maxScale": 0,
"type": "Feature Layer",
"geometryType": "esriGeometryPoint",
"supportsDynamicLegends": true
},
{
"id": 38,
"name": "POI_Traffic_P",
"parentLayerId": 21,
"defaultVisibility": true,
"subLayerIds": null,
"minScale": 20000,
"maxScale": 0,
"type": "Feature Layer",
"geometryType": "esriGeometryPoint",
"supportsDynamicLegends": true
},
{
"id": 39,
"name": "Admin",
"parentLayerId": -1,
"defaultVisibility": true,
"subLayerIds": [
40,
47
],
"minScale": 0,
"maxScale": 0,
"type": "Group Layer",
"supportsDynamicLegends": false
},
{
"id": 40,
"name": "Clearmap Admin layers L0-L6",
"parentLayerId": 39,
"defaultVisibility": true,
"subLayerIds": [
41,
42,
43,
44,
45,
46
],
"minScale": 0,
"maxScale": 0,
"type": "Group Layer",
"supportsDynamicLegends": false
},
{
"id": 41,
"name": "ADM_Boundaries_L0-L2",
"parentLayerId": 40,
"defaultVisibility": true,
"subLayerIds": null,
"minScale": 0,
"maxScale": 80000000,
"type": "Feature Layer",
"geometryType": "esriGeometryPolyline",
"supportsDynamicLegends": true
},
{
"id": 42,
"name": "ADM_Boundaries_L3",
"parentLayerId": 40,
"defaultVisibility": true,
"subLayerIds": null,
"minScale": 80000000,
"maxScale": 40000000,
"type": "Feature Layer",
"geometryType": "esriGeometryPolyline",
"supportsDynamicLegends": true
},
{
"id": 43,
"name": "ADM_Boundaries_L4",
"parentLayerId": 40,
"defaultVisibility": true,
"subLayerIds": null,
"minScale": 40000000,
"maxScale": 20000000,
"type": "Feature Layer",
"geometryType": "esriGeometryPolyline",
"supportsDynamicLegends": true
},
{
"id": 44,
"name": "ADM_Boundaries_L5",
"parentLayerId": 40,
"defaultVisibility": true,
"subLayerIds": null,
"minScale": 20000000,
"maxScale": 10000000,
"type": "Feature Layer",
"geometryType": "esriGeometryPolyline",
"supportsDynamicLegends": true
},
{
"id": 45,
"name": "ADM_Boundaries_L6",
"parentLayerId": 40,
"defaultVisibility": true,
"subLayerIds": null,
"minScale": 10000000,
"maxScale": 5000000,
"type": "Feature Layer",
"geometryType": "esriGeometryPolyline",
"supportsDynamicLegends": true
},
{
"id": 46,
"name": "ADM_Autonomous_Boundaries_L6",
"parentLayerId": 40,
"defaultVisibility": true,
"subLayerIds": null,
"minScale": 10000000,
"maxScale": 5000000,
"type": "Feature Layer",
"geometryType": "esriGeometryPolyline",
"supportsDynamicLegends": true
},
{
"id": 47,
"name": "Admin layers L7-L19",
"parentLayerId": 39,
"defaultVisibility": true,
"subLayerIds": [
48,
49,
50,
51
],
"minScale": 0,
"maxScale": 0,
"type": "Group Layer",
"supportsDynamicLegends": false
},
{
"id": 48,
"name": "ADM_Boundaries_L7-L19_HQ",
"parentLayerId": 47,
"defaultVisibility": true,
"subLayerIds": null,
"minScale": 5000000,
"maxScale": 0,
"type": "Feature Layer",
"geometryType": "esriGeometryPolyline",
"supportsDynamicLegends": true
},
{
"id": 49,
"name": "ADM_Boundaries_L7-L19_NoHQ",
"parentLayerId": 47,
"defaultVisibility": true,
"subLayerIds": null,
"minScale": 5000000,
"maxScale": 0,
"type": "Feature Layer",
"geometryType": "esriGeometryPolyline",
"supportsDynamicLegends": true
},
{
"id": 50,
"name": "ADM_Boundaries_MIK",
"parentLayerId": 47,
"defaultVisibility": true,
"subLayerIds": null,
"minScale": 2000000,
"maxScale": 0,
"type": "Feature Layer",
"geometryType": "esriGeometryPolyline",
"supportsDynamicLegends": true
},
{
"id": 51,
"name": "ADM_Boundaries_VMC",
"parentLayerId": 47,
"defaultVisibility": true,
"subLayerIds": null,
"minScale": 5000000,
"maxScale": 0,
"type": "Feature Layer",
"geometryType": "esriGeometryPolyline",
"supportsDynamicLegends": true
},
{
"id": 52,
"name": "Transport",
"parentLayerId": -1,
"defaultVisibility": true,
"subLayerIds": [
53,
54,
55,
56,
57,
58,
59,
60,
61,
62,
63
],
"minScale": 0,
"maxScale": 0,
"type": "Group Layer",
"supportsDynamicLegends": false
},
{
"id": 53,
"name": "TRA_Bridges_M",
"parentLayerId": 52,
"defaultVisibility": true,
"subLayerIds": null,
"minScale": 2000000,
"maxScale": 0,
"type": "Feature Layer",
"geometryType": "esriGeometryPolyline",
"supportsDynamicLegends": true
},
{
"id": 54,
"name": "TRA_Bridges_L",
"parentLayerId": 52,
"defaultVisibility": true,
"subLayerIds": null,
"minScale": 2000000,
"maxScale": 0,
"type": "Feature Layer",
"geometryType": "esriGeometryPolyline",
"supportsDynamicLegends": true
},
{
"id": 55,
"name": "TRA_Railways",
"parentLayerId": 52,
"defaultVisibility": true,
"subLayerIds": null,
"minScale": 500000,
"maxScale": 0,
"type": "Feature Layer",
"geometryType": "esriGeometryPolyline",
"supportsDynamicLegends": true
},
{
"id": 56,
"name": "TRA_Runways",
"parentLayerId": 52,
"defaultVisibility": true,
"subLayerIds": null,
"minScale": 100000,
"maxScale": 0,
"type": "Feature Layer",
"geometryType": "esriGeometryPolyline",
"supportsDynamicLegends": true
},
{
"id": 57,
"name": "TRA_Ferries",
"parentLayerId": 52,
"defaultVisibility": true,
"subLayerIds": null,
"minScale": 3000000,
"maxScale": 0,
"type": "Feature Layer",
"geometryType": "esriGeometryPolyline",
"supportsDynamicLegends": true
},
{
"id": 58,
"name": "TRA_Roads_S",
"parentLayerId": 52,
"defaultVisibility": true,
"subLayerIds": null,
"minScale": 20000000,
"maxScale": 2000000,
"type": "Feature Layer",
"geometryType": "esriGeometryPolyline",
"supportsDynamicLegends": true
},
{
"id": 59,
"name": "TRA_Roads_M",
"parentLayerId": 52,
"defaultVisibility": true,
"subLayerIds": null,
"minScale": 2000000,
"maxScale": 0,
"type": "Feature Layer",
"geometryType": "esriGeometryPolyline",
"supportsDynamicLegends": true
},
{
"id": 60,
"name": "TRA_Roads_L",
"parentLayerId": 52,
"defaultVisibility": true,
"subLayerIds": null,
"minScale": 2000000,
"maxScale": 0,
"type": "Feature Layer",
"geometryType": "esriGeometryPolyline",
"supportsDynamicLegends": true
},
{
"id": 61,
"name": "TRA_Roads_A",
"parentLayerId": 52,
"defaultVisibility": true,
"subLayerIds": null,
"minScale": 50000,
"maxScale": 0,
"type": "Feature Layer",
"geometryType": "esriGeometryPolygon",
"supportsDynamicLegends": true
},
{
"id": 62,
"name": "TRA_Tunnels_M",
"parentLayerId": 52,
"defaultVisibility": true,
"subLayerIds": null,
"minScale": 2000000,
"maxScale": 0,
"type": "Feature Layer",
"geometryType": "esriGeometryPolyline",
"supportsDynamicLegends": true
},
{
"id": 63,
"name": "TRA_Tunnels_L",
"parentLayerId": 52,
"defaultVisibility": true,
"subLayerIds": null,
"minScale": 2000000,
"maxScale": 0,
"type": "Feature Layer",
"geometryType": "esriGeometryPolyline",
"supportsDynamicLegends": true
},
{
"id": 64,
"name": "Areas",
"parentLayerId": -1,
"defaultVisibility": true,
"subLayerIds": [
65,
66,
67,
68
],
"minScale": 0,
"maxScale": 0,
"type": "Group Layer",
"supportsDynamicLegends": false
},
{
"id": 65,
"name": "ARE_Buildings",
"parentLayerId": 64,
"defaultVisibility": true,
"subLayerIds": null,
"minScale": 50000,
"maxScale": 0,
"type": "Feature Layer",
"geometryType": "esriGeometryPolygon",
"supportsDynamicLegends": true
},
{
"id": 66,
"name": "ARE_Parks",
"parentLayerId": 64,
"defaultVisibility": true,
"subLayerIds": null,
"minScale": 2000000,
"maxScale": 0,
"type": "Feature Layer",
"geometryType": "esriGeometryPolygon",
"supportsDynamicLegends": true
},
{
"id": 67,
"name": "ARE_Military",
"parentLayerId": 64,
"defaultVisibility": true,
"subLayerIds": null,
"minScale": 200000,
"maxScale": 0,
"type": "Feature Layer",
"geometryType": "esriGeometryPolygon",
"supportsDynamicLegends": true
},
{
"id": 68,
"name": "ARE_Piers",
"parentLayerId": 64,
"defaultVisibility": true,
"subLayerIds": null,
"minScale": 2000000,
"maxScale": 0,
"type": "Feature Layer",
"geometryType": "esriGeometryPolygon",
"supportsDynamicLegends": true
},
{
"id": 69,
"name": "Hydrography",
"parentLayerId": -1,
"defaultVisibility": true,
"subLayerIds": [
70,
71,
72,
73,
74,
75,
76
],
"minScale": 0,
"maxScale": 0,
"type": "Group Layer",
"supportsDynamicLegends": false
},
{
"id": 70,
"name": "HYD_Ocean_L",
"parentLayerId": 69,
"defaultVisibility": true,
"subLayerIds": null,
"minScale": 2000000,
"maxScale": 0,
"type": "Feature Layer",
"geometryType": "esriGeometryPolygon",
"supportsDynamicLegends": true
},
{
"id": 71,
"name": "HYD_Ocean_S",
"parentLayerId": 69,
"defaultVisibility": true,
"subLayerIds": null,
"minScale": 0,
"maxScale": 1000000,
"type": "Feature Layer",
"geometryType": "esriGeometryPolygon",
"supportsDynamicLegends": true
},
{
"id": 72,
"name": "HYD_Wetland",
"parentLayerId": 69,
"defaultVisibility": true,
"subLayerIds": null,
"minScale": 0,
"maxScale": 0,
"type": "Feature Layer",
"geometryType": "esriGeometryPolygon",
"supportsDynamicLegends": true
},
{
"id": 73,
"name": "HYD_Waterbodies",
"parentLayerId": 69,
"defaultVisibility": true,
"subLayerIds": null,
"minScale": 0,
"maxScale": 0,
"type": "Feature Layer",
"geometryType": "esriGeometryPolygon",
"supportsDynamicLegends": true
},
{
"id": 74,
"name": "HYD_Waterways_L",
"parentLayerId": 69,
"defaultVisibility": true,
"subLayerIds": null,
"minScale": 200000,
"maxScale": 0,
"type": "Feature Layer",
"geometryType": "esriGeometryPolyline",
"supportsDynamicLegends": true
},
{
"id": 75,
"name": "HYD_Waterways_M",
"parentLayerId": 69,
"defaultVisibility": true,
"subLayerIds": null,
"minScale": 2000000,
"maxScale": 200000,
"type": "Feature Layer",
"geometryType": "esriGeometryPolyline",
"supportsDynamicLegends": true
},
{
"id": 76,
"name": "HYD_Waterways_S",
"parentLayerId": 69,
"defaultVisibility": true,
"subLayerIds": null,
"minScale": 50000000,
"maxScale": 2000000,
"type": "Feature Layer",
"geometryType": "esriGeometryPolyline",
"supportsDynamicLegends": true
},
{
"id": 77,
"name": "Landuse",
"parentLayerId": -1,
"defaultVisibility": true,
"subLayerIds": [
78,
79,
80,
81,
82
],
"minScale": 0,
"maxScale": 0,
"type": "Group Layer",
"supportsDynamicLegends": false
},
{
"id": 78,
"name": "LND_Natural_L",
"parentLayerId": 77,
"defaultVisibility": true,
"subLayerIds": null,
"minScale": 100000,
"maxScale": 0,
"type": "Feature Layer",
"geometryType": "esriGeometryPolygon",
"supportsDynamicLegends": true
},
{
"id": 79,
"name": "LND_Natural_M",
"parentLayerId": 77,
"defaultVisibility": true,
"subLayerIds": null,
"minScale": 1000000,
"maxScale": 0,
"type": "Feature Layer",
"geometryType": "esriGeometryPolygon",
"supportsDynamicLegends": true
},
{
"id": 80,
"name": "LND_Natural_S",
"parentLayerId": 77,
"defaultVisibility": true,
"subLayerIds": null,
"minScale": 5000000,
"maxScale": 1000000,
"type": "Feature Layer",
"geometryType": "esriGeometryPolygon",
"supportsDynamicLegends": true
},
{
"id": 81,
"name": "LND_Urban_L",
"parentLayerId": 77,
"defaultVisibility": true,
"subLayerIds": null,
"minScale": 500000,
"maxScale": 0,
"type": "Feature Layer",
"geometryType": "esriGeometryPolygon",
"supportsDynamicLegends": true
},
{
"id": 82,
"name": "LND_Transport_A",
"parentLayerId": 77,
"defaultVisibility": true,
"subLayerIds": null,
"minScale": 2000000,
"maxScale": 0,
"type": "Feature Layer",
"geometryType": "esriGeometryPolygon",
"supportsDynamicLegends": true
},
{
"id": 83,
"name": "Base",
"parentLayerId": -1,
"defaultVisibility": true,
"subLayerIds": [
84,
85,
86,
87
],
"minScale": 0,
"maxScale": 0,
"type": "Group Layer",
"supportsDynamicLegends": false
},
{
"id": 84,
"name": "LND_Landcover_M",
"parentLayerId": 83,
"defaultVisibility": true,
"subLayerIds": null,
"minScale": 5000000,
"maxScale": 500000,
"type": "Feature Layer",
"geometryType": "esriGeometryPolygon",
"supportsDynamicLegends": true
},
{
"id": 85,
"name": "LND_Landcover_S",
"parentLayerId": 83,
"defaultVisibility": true,
"subLayerIds": null,
"minScale": 0,
"maxScale": 5000000,
"type": "Feature Layer",
"geometryType": "esriGeometryPolygon",
"supportsDynamicLegends": true
},
{
"id": 86,
"name": "LND_Landmass_L",
"parentLayerId": 83,
"defaultVisibility": true,
"subLayerIds": null,
"minScale": 2000000,
"maxScale": 0,
"type": "Feature Layer",
"geometryType": "esriGeometryPolygon",
"supportsDynamicLegends": true
},
{
"id": 87,
"name": "LND_Landmass_S",
"parentLayerId": 83,
"defaultVisibility": true,
"subLayerIds": null,
"minScale": 0,
"maxScale": 1000000,
"type": "Feature Layer",
"geometryType": "esriGeometryPolygon",
"supportsDynamicLegends": true
}
],
"tables": [],
"spatialReference": {
"wkid": 102100,
"latestWkid": 3857,
"xyTolerance": 0.001,
"zTolerance": 0.001,
"mTolerance": 0.001,
"falseX": -20037700,
"falseY": -30241100,
"xyUnits": 10000,
"falseZ": -100000,
"zUnits": 10000,
"falseM": -100000,
"mUnits": 10000
},
"singleFusedMapCache": true,
"tileInfo": {
"rows": 256,
"cols": 256,
"dpi": 96,
"format": "PNG",
"compressionQuality": 0,
"origin": {
"x": -2.0037508342787E7,
"y": 2.0037508342787E7
},
"spatialReference": {
"wkid": 102100,
"latestWkid": 3857,
"xyTolerance": 0.001,
"zTolerance": 0.001,
"mTolerance": 0.001,
"falseX": -20037700,
"falseY": -30241100,
"xyUnits": 1.4892314192838538E8,
"falseZ": -100000,
"zUnits": 10000,
"falseM": -100000,
"mUnits": 10000
},
"lods": [
{
"level": 0,
"resolution": 156543.033928,
"scale": 5.91657527591555E8
},
{
"level": 1,
"resolution": 78271.5169639999,
"scale": 2.95828763795777E8
},
{
"level": 2,
"resolution": 39135.7584820001,
"scale": 1.47914381897889E8
},
{
"level": 3,
"resolution": 19567.8792409999,
"scale": 7.3957190948944E7
},
{
"level": 4,
"resolution": 9783.93962049996,
"scale": 3.6978595474472E7
},
{
"level": 5,
"resolution": 4891.96981024998,
"scale": 1.8489297737236E7
},
{
"level": 6,
"resolution": 2445.98490512499,
"scale": 9244648.868618
},
{
"level": 7,
"resolution": 1222.99245256249,
"scale": 4622324.434309
},
{
"level": 8,
"resolution": 611.49622628138,
"scale": 2311162.217155
},
{
"level": 9,
"resolution": 305.748113140558,
"scale": 1155581.108577
},
{
"level": 10,
"resolution": 152.874056570411,
"scale": 577790.554289
},
{
"level": 11,
"resolution": 76.4370282850732,
"scale": 288895.277144
},
{
"level": 12,
"resolution": 38.2185141425366,
"scale": 144447.638572
},
{
"level": 13,
"resolution": 19.1092570712683,
"scale": 72223.819286
},
{
"level": 14,
"resolution": 9.55462853563415,
"scale": 36111.909643
},
{
"level": 15,
"resolution": 4.77731426794937,
"scale": 18055.954822
},
{
"level": 16,
"resolution": 2.38865713397468,
"scale": 9027.977411
},
{
"level": 17,
"resolution": 1.19432856685505,
"scale": 4513.988705
},
{
"level": 18,
"resolution": 0.597164283559817,
"scale": 2256.994353
},
{
"level": 19,
"resolution": 0.298582141647617,
"scale": 1128.497176
},
{
"level": 20,
"resolution": 0.14929107082380833,
"scale": 564.248588
},
{
"level": 21,
"resolution": 0.07464553541190416,
"scale": 282.124294
},
{
"level": 22,
"resolution": 0.03732276770595208,
"scale": 141.062147
},
{
"level": 23,
"resolution": 0.01866138385297604,
"scale": 70.5310735
}
]
},
"storageInfo": {
"storageFormat": "esriMapCacheStorageModeCompactV2",
"packetSize": 128
},
"initialExtent": {
"xmin": 3007453.5097317183,
"ymin": 74799.51205913385,
"xmax": 3916504.5941585647,
"ymax": 1652881.9559186273,
