{
 "currentVersion": 11.4,
 "cimVersion": "3.4.0",
 "serviceDescription": "",
 "mapName": "FLAT_WM",
 "description": "ClearMap WebPlain",
 "copyrightText": "Produced by United Nations Geospatial<\/a> ",
 "supportsDynamicLayers": false,
 "layers": [
  {
   "id": 0,
   "name": "Populated Places",
   "parentLayerId": -1,
   "defaultVisibility": true,
   "subLayerIds": null,
   "minScale": 20000000,
   "maxScale": 5000000,
   "type": "Feature Layer",
   "geometryType": "esriGeometryPoint",
   "supportsDynamicLegends": true
  },
  {
   "id": 1,
   "name": "Annotations",
   "parentLayerId": -1,
   "defaultVisibility": true,
   "subLayerIds": [
    2,
    3,
    6,
    22,
    40,
    61
   ],
   "minScale": 0,
   "maxScale": 5000000,
   "type": "Group Layer",
   "supportsDynamicLegends": false
  },
  {
   "id": 2,
   "name": "L01",
   "parentLayerId": 1,
   "defaultVisibility": true,
   "subLayerIds": [],
   "minScale": 600000000,
   "maxScale": 200000000,
   "type": "Group Layer",
   "supportsDynamicLegends": false
  },
  {
   "id": 3,
   "name": "L02",
   "parentLayerId": 1,
   "defaultVisibility": true,
   "subLayerIds": [
    4
   ],
   "minScale": 200000000,
   "maxScale": 100000000,
   "type": "Group Layer",
   "supportsDynamicLegends": false
  },
  {
   "id": 6,
   "name": "L03",
   "parentLayerId": 1,
   "defaultVisibility": true,
   "subLayerIds": [
    7,
    14,
    15
   ],
   "minScale": 100000000,
   "maxScale": 50000000,
   "type": "Group Layer",
   "supportsDynamicLegends": false
  },
  {
   "id": 22,
   "name": "L04",
   "parentLayerId": 1,
   "defaultVisibility": true,
   "subLayerIds": [
    23,
    30,
    31
   ],
   "minScale": 50000000,
   "maxScale": 20000000,
   "type": "Group Layer",
   "supportsDynamicLegends": false
  },
  {
   "id": 40,
   "name": "L05",
   "parentLayerId": 1,
   "defaultVisibility": true,
   "subLayerIds": [
    41,
    43,
    51,
    52
   ],
   "minScale": 20000000,
   "maxScale": 10000000,
   "type": "Group Layer",
   "supportsDynamicLegends": false
  },
  {
   "id": 61,
   "name": "L06",
   "parentLayerId": 1,
   "defaultVisibility": true,
   "subLayerIds": [
    62,
    70,
    72,
    73,
    82
   ],
   "minScale": 10000000,
   "maxScale": 5000000,
   "type": "Group Layer",
   "supportsDynamicLegends": false
  },
  {
   "id": 82,
   "name": "AUTONOMOUS_BNDL_L06",
   "parentLayerId": 61,
   "defaultVisibility": true,
   "subLayerIds": null,
   "minScale": 0,
   "maxScale": 0,
   "type": "Feature Layer",
   "geometryType": "esriGeometryPolyline",
   "supportsDynamicLegends": true
  },
  {
   "id": 83,
   "name": "WBYA Features",
   "parentLayerId": -1,
   "defaultVisibility": true,
   "subLayerIds": [
    84,
    85,
    86,
    87,
    88
   ],
   "minScale": 0,
   "maxScale": 5000000,
   "type": "Group Layer",
   "supportsDynamicLegends": false
  },
  {
   "id": 88,
   "name": "WBYA_L06",
   "parentLayerId": 83,
   "defaultVisibility": true,
   "subLayerIds": null,
   "minScale": 10000000,
   "maxScale": 5000000,
   "type": "Feature Layer",
   "geometryType": "esriGeometryPolygon",
   "supportsDynamicLegends": true
  },
  {
   "id": 89,
   "name": "Global Boundaries",
   "parentLayerId": -1,
   "defaultVisibility": true,
   "subLayerIds": [
    90,
    91,
    92,
    93,
    94
   ],
   "minScale": 0,
   "maxScale": 5000000,
   "type": "Group Layer",
   "supportsDynamicLegends": false
  },
  {
   "id": 90,
   "name": "Global Boundaries L02",
   "parentLayerId": 89,
   "defaultVisibility": true,
   "subLayerIds": null,
   "minScale": 200000000,
   "maxScale": 100000000,
   "type": "Feature Layer",
   "geometryType": "esriGeometryPolyline",
   "supportsDynamicLegends": true
  },
  {
   "id": 91,
   "name": "Global Boundaries L03",
   "parentLayerId": 89,
   "defaultVisibility": true,
   "subLayerIds": null,
   "minScale": 100000000,
   "maxScale": 50000000,
   "type": "Feature Layer",
   "geometryType": "esriGeometryPolyline",
   "supportsDynamicLegends": true
  },
  {
   "id": 92,
   "name": "Global Boundaries L04",
   "parentLayerId": 89,
   "defaultVisibility": true,
   "subLayerIds": null,
   "minScale": 50000000,
   "maxScale": 20000000,
   "type": "Feature Layer",
   "geometryType": "esriGeometryPolyline",
   "supportsDynamicLegends": true
  },
  {
   "id": 93,
   "name": "Global Boundaries L05",
   "parentLayerId": 89,
   "defaultVisibility": true,
   "subLayerIds": null,
   "minScale": 20000000,
   "maxScale": 10000000,
   "type": "Feature Layer",
   "geometryType": "esriGeometryPolyline",
   "supportsDynamicLegends": true
  },
  {
   "id": 94,
   "name": "Global Boundaries L06",
   "parentLayerId": 89,
   "defaultVisibility": true,
   "subLayerIds": null,
   "minScale": 10000000,
   "maxScale": 5000000,
   "type": "Feature Layer",
   "geometryType": "esriGeometryPolyline",
   "supportsDynamicLegends": true
  },
  {
   "id": 95,
   "name": "DRAL Features",
   "parentLayerId": -1,
   "defaultVisibility": true,
   "subLayerIds": [
    96,
    97,
    98,
    99
   ],
   "minScale": 0,
   "maxScale": 5000000,
   "type": "Group Layer",
   "supportsDynamicLegends": false
  },
  {
   "id": 99,
   "name": "WBYA_WCOURSE_L06",
   "parentLayerId": 95,
   "defaultVisibility": true,
   "subLayerIds": null,
   "minScale": 10000000,
   "maxScale": 5000000,
   "type": "Feature Layer",
   "geometryType": "esriGeometryPolygon",
   "supportsDynamicLegends": true
  },
  {
   "id": 100,
   "name": "Base Layers",
   "parentLayerId": -1,
   "defaultVisibility": true,
   "subLayerIds": [
    101,
    104,
    107
   ],
   "minScale": 0,
   "maxScale": 5000000,
   "type": "Group Layer",
   "supportsDynamicLegends": false
  },
  {
   "id": 101,
   "name": "Coastline",
   "parentLayerId": 100,
   "defaultVisibility": true,
   "subLayerIds": [
    102,
    103
   ],
   "minScale": 0,
   "maxScale": 0,
   "type": "Group Layer",
   "supportsDynamicLegends": false
  },
  {
   "id": 102,
   "name": "Coastline_L05-L06",
   "parentLayerId": 101,
   "defaultVisibility": true,
   "subLayerIds": null,
   "minScale": 20000000,
   "maxScale": 0,
   "type": "Feature Layer",
   "geometryType": "esriGeometryPolyline",
   "supportsDynamicLegends": true
  },
  {
   "id": 103,
   "name": "Coastline_L01-L04",
   "parentLayerId": 101,
   "defaultVisibility": true,
   "subLayerIds": null,
   "minScale": 0,
   "maxScale": 20000000,
   "type": "Feature Layer",
   "geometryType": "esriGeometryPolyline",
   "supportsDynamicLegends": true
  },
  {
   "id": 104,
   "name": "Country areas",
   "parentLayerId": 100,
   "defaultVisibility": true,
   "subLayerIds": [
    105,
    106
   ],
   "minScale": 0,
   "maxScale": 0,
   "type": "Group Layer",
   "supportsDynamicLegends": false
  },
  {
   "id": 105,
   "name": "BNDA_L01-L04",
   "parentLayerId": 104,
   "defaultVisibility": true,
   "subLayerIds": null,
   "minScale": 0,
   "maxScale": 20000000,
   "type": "Feature Layer",
   "geometryType": "esriGeometryPolygon",
   "supportsDynamicLegends": true
  },
  {
   "id": 106,
   "name": "BNDA_L05-L06",
   "parentLayerId": 104,
   "defaultVisibility": true,
   "subLayerIds": null,
   "minScale": 20000000,
   "maxScale": 0,
   "type": "Feature Layer",
   "geometryType": "esriGeometryPolygon",
   "supportsDynamicLegends": true
  },
  {
   "id": 107,
   "name": "Ocean",
   "parentLayerId": 100,
   "defaultVisibility": true,
   "subLayerIds": [
    108,
    109
   ],
   "minScale": 0,
   "maxScale": 0,
   "type": "Group Layer",
   "supportsDynamicLegends": false
  },
  {
   "id": 108,
   "name": "Ocean_L04-L06",
   "parentLayerId": 107,
   "defaultVisibility": true,
   "subLayerIds": null,
   "minScale": 50000000,
   "maxScale": 5000000,
   "type": "Feature Layer",
   "geometryType": "esriGeometryPolygon",
   "supportsDynamicLegends": true
  },
  {
   "id": 109,
   "name": "Ocean_L0-L03",
   "parentLayerId": 107,
   "defaultVisibility": true,
   "subLayerIds": null,
   "minScale": 0,
   "maxScale": 50000000,
   "type": "Feature Layer",
   "geometryType": "esriGeometryPolygon",
   "supportsDynamicLegends": true
  }
 ],
 "tables": [],
 "spatialReference": {
  "wkid": 102100,
  "latestWkid": 3857,
  "xyTolerance": 0.001,
  "zTolerance": 0.001,
  "mTolerance": 0.001,
  "falseX": -20037700,
  "falseY": -30241100,
  "xyUnits": 10000,
  "falseZ": -100000,
  "zUnits": 10000,
  "falseM": -100000,
  "mUnits": 10000
 },
 "singleFusedMapCache": true,
 "tileInfo": {
  "rows": 256,
  "cols": 256,
  "dpi": 96,
  "format": "PNG",
  "compressionQuality": 0,
  "origin": {
   "x": -2.0037508342787E7,
   "y": 2.0037508342787E7
  },
  "spatialReference": {
   "wkid": 102100,
   "latestWkid": 3857,
   "xyTolerance": 0.001,
   "zTolerance": 0.001,
   "mTolerance": 0.001,
   "falseX": -20037700,
   "falseY": -30241100,
   "xyUnits": 1.4892314192838538E8,
   "falseZ": -100000,
   "zUnits": 10000,
   "falseM": -100000,
   "mUnits": 10000
  },
  "lods": [
   {
    "level": 0,
    "resolution": 156543.033928,
    "scale": 5.91657527591555E8
   },
   {
    "level": 1,
    "resolution": 78271.5169639999,
    "scale": 2.95828763795777E8
   },
   {
    "level": 2,
    "resolution": 39135.7584820001,
    "scale": 1.47914381897889E8
   },
   {
    "level": 3,
    "resolution": 19567.8792409999,
    "scale": 7.3957190948944E7
   },
   {
    "level": 4,
    "resolution": 9783.93962049996,
    "scale": 3.6978595474472E7
   },
   {
    "level": 5,
    "resolution": 4891.96981024998,
    "scale": 1.8489297737236E7
   },
   {
    "level": 6,
    "resolution": 2445.98490512499,
    "scale": 9244648.868618
   },
   {
    "level": 7,
    "resolution": 1222.99245256249,
    "scale": 4622324.434309
   },
   {
    "level": 8,
    "resolution": 611.49622628138,
    "scale": 2311162.217155
   },
   {
    "level": 9,
    "resolution": 305.748113140558,
    "scale": 1155581.108577
   },
   {
    "level": 10,
    "resolution": 152.874056570411,
    "scale": 577790.554289
   },
   {
    "level": 11,
    "resolution": 76.4370282850732,
    "scale": 288895.277144
   },
   {
    "level": 12,
    "resolution": 38.2185141425366,
    "scale": 144447.638572
   },
   {
    "level": 13,
    "resolution": 19.1092570712683,
    "scale": 72223.819286
   },
   {
    "level": 14,
    "resolution": 9.55462853563415,
    "scale": 36111.909643
   },
   {
    "level": 15,
    "resolution": 4.77731426794937,
    "scale": 18055.954822
   },
   {
    "level": 16,
    "resolution": 2.38865713397468,
    "scale": 9027.977411
   },
   {
    "level": 17,
    "resolution": 1.19432856685505,
    "scale": 4513.988705
   },
   {
    "level": 18,
    "resolution": 0.597164283559817,
    "scale": 2256.994353
   },
   {
    "level": 19,
    "resolution": 0.298582141647617,
    "scale": 1128.497176
   },
   {
    "level": 20,
    "resolution": 0.14929107082380833,
    "scale": 564.248588
   },
   {
    "level": 21,
    "resolution": 0.07464553541190416,
    "scale": 282.124294
   },
   {
    "level": 22,
    "resolution": 0.03732276770595208,
    "scale": 141.062147
   },
   {
    "level": 23,
    "resolution": 0.01866138385297604,
    "scale": 70.5310735
   }
  ]
 },
 "storageInfo": {
  "storageFormat": "esriMapCacheStorageModeCompactV2",
  "packetSize": 128
 },
 "initialExtent": {
  "xmin": -4276550.712061684,
  "ymin": -461108.2618876733,
  "xmax": 713258.4943933024,
  "ymax": 3941664.5673373146,
  "spatialReference": {
   "cs": "pcs",
   "wkid": 102100
  }
 },
 "fullExtent": {
  "xmin": -2.0037508342789244E7,
  "ymin": -2.4252868094374272E8,
  "xmax": 2.0037508342789244E7,
  "ymax": 2.4252868094374272E8,
  "spatialReference": {
   "cs": "pcs",
   "wkid": 102100
  }
 },
 "datesInUnknownTimezone": false,
 "minScale": 0,
 "maxScale": 0,
 "units": "esriMeters",
 "supportedImageFormatTypes": "PNG32,PNG24,PNG,JPG,DIB,TIFF,EMF,PS,PDF,GIF,SVG,SVGZ,BMP",
 "documentInfo": {
  "Title": "UN_Clear0",
  "Author": "",
  "Comments": "UN_Clear0",
  "Subject": "UN_Clear0",
  "Category": "",
  "Version": "3.2.0",
  "AntialiasingMode": "Fast",
  "TextAntialiasingMode": "Force",
  "Keywords": "ClearMap WebPlain"
 },
 "supportsQueryDomains": true,
 "capabilities": "Map,Query,Data",
 "supportedQueryFormats": "JSON, geoJSON, PBF",
 "exportTilesAllowed": false,
 "referenceScale": 0.0,
 "supportsDatumTransformation": true,
 "floorAwareMapProperties": {
  "defaultFloorFilterSettings": {
   "isEnabled": false
  }
 },
 "archivingInfo": {
  "supportsHistoricMoment": false
 },
 "supportsClipping": true,
 "supportsSpatialFilter": true,
 "supportsTimeRelation": true,
 "supportsQueryDataElements": true,
 "mapUnits": {
  "uwkid": 9001
 },
 "maxSelectionCount": 2000,
 "maxRecordCount": 2000,
 "maxImageHeight": 4096,
 "maxImageWidth": 4096,
 "supportedExtensions": "WMSServer",
 "resampling": false,
 "serviceItemId": "891596d2eb5247d5949a17ed451b0ad3"
}
