{
 "currentVersion": 11.4,
 "cimVersion": "3.4.0",
 "serviceDescription": "",
 "mapName": "GRAY_ITRF",
 "description": "UN_Clear0",
 "copyrightText": "Produced by United Nations Geospatial<\/a> ",
 "supportsDynamicLayers": false,
 "layers": [
  {
   "id": 1,
   "name": "Annotations",
   "parentLayerId": -1,
   "defaultVisibility": true,
   "subLayerIds": [
    2,
    3,
    6,
    22,
    40,
    61
   ],
   "minScale": 0,
   "maxScale": 5000000,
   "type": "Group Layer",
   "supportsDynamicLegends": false
  },
  {
   "id": 2,
   "name": "L01",
   "parentLayerId": 1,
   "defaultVisibility": true,
   "subLayerIds": [],
   "minScale": 600000000,
   "maxScale": 200000000,
   "type": "Group Layer",
   "supportsDynamicLegends": false
  },
  {
   "id": 3,
   "name": "L02",
   "parentLayerId": 1,
   "defaultVisibility": true,
   "subLayerIds": [
    4
   ],
   "minScale": 200000000,
   "maxScale": 100000000,
   "type": "Group Layer",
   "supportsDynamicLegends": false
  },
  {
   "id": 6,
   "name": "L03",
   "parentLayerId": 1,
   "defaultVisibility": true,
   "subLayerIds": [
    7,
    14,
    21
   ],
   "minScale": 100000000,
   "maxScale": 50000000,
   "type": "Group Layer",
   "supportsDynamicLegends": false
  },
  {
   "id": 22,
   "name": "L04",
   "parentLayerId": 1,
   "defaultVisibility": true,
   "subLayerIds": [
    23,
    30,
    39
   ],
   "minScale": 50000000,
   "maxScale": 20000000,
   "type": "Group Layer",
   "supportsDynamicLegends": false
  },
  {
   "id": 40,
   "name": "L05",
   "parentLayerId": 1,
   "defaultVisibility": true,
   "subLayerIds": [
    41,
    49,
    51,
    60
   ],
   "minScale": 20000000,
   "maxScale": 10000000,
   "type": "Group Layer",
   "supportsDynamicLegends": false
  },
  {
   "id": 61,
   "name": "L06",
   "parentLayerId": 1,
   "defaultVisibility": true,
   "subLayerIds": [
    62,
    70,
    72,
    81,
    82
   ],
   "minScale": 10000000,
   "maxScale": 5000000,
   "type": "Group Layer",
   "supportsDynamicLegends": false
  },
  {
   "id": 83,
   "name": "WBYA Features",
   "parentLayerId": -1,
   "defaultVisibility": true,
   "subLayerIds": [
    84,
    85,
    86,
    87,
    88
   ],
   "minScale": 0,
   "maxScale": 5000000,
   "type": "Group Layer",
   "supportsDynamicLegends": false
  },
  {
   "id": 89,
   "name": "Global Boundaries",
   "parentLayerId": -1,
   "defaultVisibility": true,
   "subLayerIds": [
    90,
    91,
    92,
    93,
    94
   ],
   "minScale": 0,
   "maxScale": 5000000,
   "type": "Group Layer",
   "supportsDynamicLegends": false
  },
  {
   "id": 95,
   "name": "DRAL Features",
   "parentLayerId": -1,
   "defaultVisibility": true,
   "subLayerIds": [
    96,
    97,
    98,
    99
   ],
   "minScale": 0,
   "maxScale": 5000000,
   "type": "Group Layer",
   "supportsDynamicLegends": false
  },
  {
   "id": 100,
   "name": "Base Layers",
   "parentLayerId": -1,
   "defaultVisibility": true,
   "subLayerIds": [
    101,
    104,
    105,
    109,
    112,
    114
   ],
   "minScale": 0,
   "maxScale": 5000000,
   "type": "Group Layer",
   "supportsDynamicLegends": false
  },
  {
   "id": 101,
   "name": "Coastline",
   "parentLayerId": 100,
   "defaultVisibility": true,
   "subLayerIds": [
    102,
    103
   ],
   "minScale": 0,
   "maxScale": 0,
   "type": "Group Layer",
   "supportsDynamicLegends": false
  },
  {
   "id": 105,
   "name": "Global hillshade",
   "parentLayerId": 100,
   "defaultVisibility": true,
   "subLayerIds": [
    106,
    107,
    108
   ],
   "minScale": 0,
   "maxScale": 0,
   "type": "Group Layer",
   "supportsDynamicLegends": false
  },
  {
   "id": 109,
   "name": "Country areas",
   "parentLayerId": 100,
   "defaultVisibility": true,
   "subLayerIds": [
    110,
    111
   ],
   "minScale": 0,
   "maxScale": 0,
   "type": "Group Layer",
   "supportsDynamicLegends": false
  },
  {
   "id": 112,
   "name": "Bathymetry",
   "parentLayerId": 100,
   "defaultVisibility": true,
   "subLayerIds": [
    113
   ],
   "minScale": 50000000,
   "maxScale": 0,
   "type": "Group Layer",
   "supportsDynamicLegends": false
  },
  {
   "id": 114,
   "name": "Ocean",
   "parentLayerId": 100,
   "defaultVisibility": true,
   "subLayerIds": [
    115,
    116
   ],
   "minScale": 0,
   "maxScale": 0,
   "type": "Group Layer",
   "supportsDynamicLegends": false
  }
 ],
 "tables": [],
 "spatialReference": {
  "wkid": 104257,
  "latestWkid": 8999,
  "xyTolerance": 8.983152841195213E-9,
  "zTolerance": 0.001,
  "mTolerance": 0.001,
  "falseX": -400,
  "falseY": -400,
  "xyUnits": 9.999999999999999E8,
  "falseZ": -100000,
  "zUnits": 10000,
  "falseM": -100000,
  "mUnits": 10000
 },
 "singleFusedMapCache": true,
 "tileInfo": {
  "rows": 256,
  "cols": 256,
  "dpi": 96,
  "format": "PNG",
  "compressionQuality": 0,
  "origin": {
   "x": -400,
   "y": 399.9999999999998
  },
  "spatialReference": {
   "wkid": 104257,
   "latestWkid": 8999,
   "xyTolerance": 8.983152841195213E-9,
   "zTolerance": 0.001,
   "mTolerance": 0.001,
   "falseX": -400,
   "falseY": -400,
   "xyUnits": 1.125899906842624E13,
   "falseZ": -100000,
   "zUnits": 10000,
   "falseM": -100000,
   "mUnits": 10000
  },
  "lods": [
   {
    "level": 0,
    "resolution": 0.5948652514575701,
    "scale": 250000000
   },
   {
    "level": 1,
    "resolution": 0.29743262572878504,
    "scale": 125000000
   },
   {
    "level": 2,
    "resolution": 0.14871631286439252,
    "scale": 62500000
   },
   {
    "level": 3,
    "resolution": 0.07435815643219626,
    "scale": 31250000
   },
   {
    "level": 4,
    "resolution": 0.03717907821609813,
    "scale": 15625000
   },
   {
    "level": 5,
    "resolution": 0.018589539108049065,
    "scale": 7812500
   },
   {
    "level": 6,
    "resolution": 0.009294769554024532,
    "scale": 3906250
   },
   {
    "level": 7,
    "resolution": 0.004647384777012266,
    "scale": 1953125
   },
   {
    "level": 8,
    "resolution": 0.002323692388506133,
    "scale": 976562.5
   },
   {
    "level": 9,
    "resolution": 0.0011618461942530666,
    "scale": 488281.25
   },
   {
    "level": 10,
    "resolution": 5.809230971265333E-4,
    "scale": 244140.625
   },
   {
    "level": 11,
    "resolution": 2.9046154856326664E-4,
    "scale": 122070.3125
   },
   {
    "level": 12,
    "resolution": 1.4523077428163332E-4,
    "scale": 61035.15625
   },
   {
    "level": 13,
    "resolution": 7.261538714081666E-5,
    "scale": 30517.578125
   },
   {
    "level": 14,
    "resolution": 3.630769357040833E-5,
    "scale": 15258.7890625
   },
   {
    "level": 15,
    "resolution": 1.8153846785204165E-5,
    "scale": 7629.39453125
   },
   {
    "level": 16,
    "resolution": 9.076923392602082E-6,
    "scale": 3814.697265625
   },
   {
    "level": 17,
    "resolution": 4.538461696301041E-6,
    "scale": 1907.3486328125
   },
   {
    "level": 18,
    "resolution": 2.2692308481505206E-6,
    "scale": 953.67431640625
   },
   {
    "level": 19,
    "resolution": 1.1346154240752603E-6,
    "scale": 476.837158203125
   },
   {
    "level": 20,
    "resolution": 5.673077120376302E-7,
    "scale": 238.4185791015625
   },
   {
    "level": 21,
    "resolution": 2.836538560188151E-7,
    "scale": 119.20928955078125
   },
   {
    "level": 22,
    "resolution": 1.4182692800940754E-7,
    "scale": 59.604644775390625
   }
  ]
 },
 "storageInfo": {
  "storageFormat": "esriMapCacheStorageModeCompactV2",
  "packetSize": 128
 },
 "initialExtent": {
  "xmin": 96.49807959389425,
  "ymin": 5.86294835024432,
  "xmax": 141.32229834388235,
  "ymax": 45.41372960023382,
  "spatialReference": {
   "wkid": 104257,
   "latestWkid": 8999,
   "xyTolerance": 8.983152841195213E-9,
   "zTolerance": 0.001,
   "mTolerance": 0.001,
   "falseX": -400,
   "falseY": -400,
   "xyUnits": 9.999999999999999E8,
   "falseZ": -100000,
   "zUnits": 10000,
   "falseM": -100000,
   "mUnits": 10000
  }
 },
 "fullExtent": {
  "xmin": "NaN",
  "ymin": "NaN",
  "xmax": "NaN",
  "ymax": "NaN",
  "spatialReference": {
   "wkid": 104257,
   "latestWkid": 8999,
   "xyTolerance": 8.983152841195213E-9,
   "zTolerance": 0.001,
   "mTolerance": 0.001,
   "falseX": -400,
   "falseY": -400,
   "xyUnits": 9.999999999999999E8,
   "falseZ": -100000,
   "zUnits": 10000,
   "falseM": -100000,
   "mUnits": 10000
  }
 },
 "datesInUnknownTimezone": false,
 "minScale": 0,
 "maxScale": 0,
 "units": "esriDecimalDegrees",
 "supportedImageFormatTypes": "PNG32,PNG24,PNG,JPG,DIB,TIFF,EMF,PS,PDF,GIF,SVG,SVGZ,BMP",
 "documentInfo": {
  "Title": "GRAY",
  "Author": "",
  "Comments": "",
  "Subject": "",
  "Category": "",
  "Version": "3.2.0",
  "AntialiasingMode": "Fast",
  "TextAntialiasingMode": "Force",
  "Keywords": "ClearMap Gray"
 },
 "supportsQueryDomains": true,
 "capabilities": "Map,Query,Data",
 "supportedQueryFormats": "JSON, geoJSON, PBF",
 "exportTilesAllowed": false,
 "referenceScale": 0.0,
 "datumTransformations": [
  {
   "geoTransforms": [
    {
     "wkid": 108363,
     "latestWkid": 108363,
     "transformForward": true,
     "name": "WGS_1984_(ITRF08)_To_NAD_1983_2011"
    },
    {
     "wkid": 108360,
     "latestWkid": 108360,
     "transformForward": false,
     "name": "ITRF_2008_To_NAD_1983_2011"
    }
   ]
  },
  {
   "geoTransforms": [
    {
     "wkid": 108360,
     "latestWkid": 108360,
     "transformForward": true,
     "name": "ITRF_2008_To_NAD_1983_2011"
    },
    {
     "wkid": 108363,
     "latestWkid": 108363,
     "transformForward": false,
     "name": "WGS_1984_(ITRF08)_To_NAD_1983_2011"
    }
   ]
  }
 ],
 "supportsDatumTransformation": true,
 "archivingInfo": {
  "supportsHistoricMoment": false
 },
 "supportsClipping": true,
 "supportsSpatialFilter": true,
 "supportsTimeRelation": true,
 "supportsQueryDataElements": true,
 "mapUnits": {
  "uwkid": 9102
 },
 "maxSelectionCount": 2000,
 "maxRecordCount": 2000,
 "maxImageHeight": 4096,
 "maxImageWidth": 4096,
 "supportedExtensions": "WMSServer",
 "resampling": false,
 "serviceItemId": "f8b41877320c4bc0a40cd92c8197eea7"
}
